BEGIN:VCALENDAR
VERSION:2.0
PRODID:-//Oskaloosa Christian School - ECPv6.15.20//NONSGML v1.0//EN
CALSCALE:GREGORIAN
METHOD:PUBLISH
X-WR-CALNAME:Oskaloosa Christian School
X-ORIGINAL-URL:https://oskaloosachristian.net
X-WR-CALDESC:Events for Oskaloosa Christian School
REFRESH-INTERVAL;VALUE=DURATION:PT1H
X-Robots-Tag:noindex
X-PUBLISHED-TTL:PT1H
BEGIN:VTIMEZONE
TZID:UTC
BEGIN:STANDARD
TZOFFSETFROM:+0000
TZOFFSETTO:+0000
TZNAME:UTC
DTSTART:20230101T000000
END:STANDARD
END:VTIMEZONE
BEGIN:VEVENT
DTSTART;VALUE=DATE:20240930
DTEND;VALUE=DATE:20241001
DTSTAMP:20260419T215232
CREATED:20240910T185240Z
LAST-MODIFIED:20240910T185240Z
UID:2030-1727654400-1727740799@oskaloosachristian.net
SUMMARY:Walking Tacos\, Corn\, Peaches\, WG Dinner Roll\, Milk
DESCRIPTION:
URL:https://oskaloosachristian.net/event/walking-tacos-corn-peaches-wg-dinner-roll-milk/
CATEGORIES:Lunch Calendar
END:VEVENT
BEGIN:VEVENT
DTSTART;VALUE=DATE:20240927
DTEND;VALUE=DATE:20240928
DTSTAMP:20260419T215232
CREATED:20240910T185205Z
LAST-MODIFIED:20240910T185205Z
UID:2029-1727395200-1727481599@oskaloosachristian.net
SUMMARY:Max's Pizza\, Green Beans\, Pears\, WG Breadsticks w/Marinara Sauce\, Milk
DESCRIPTION:
URL:https://oskaloosachristian.net/event/maxs-pizza-green-beans-pears-wg-breadsticks-w-marinara-sauce-milk/
CATEGORIES:Lunch Calendar
END:VEVENT
BEGIN:VEVENT
DTSTART;VALUE=DATE:20240926
DTEND;VALUE=DATE:20240927
DTSTAMP:20260419T215232
CREATED:20240913T020858Z
LAST-MODIFIED:20240913T020858Z
UID:2056-1727308800-1727395199@oskaloosachristian.net
SUMMARY:Middle School Outing
DESCRIPTION:
URL:https://oskaloosachristian.net/event/middle-school-outing/
CATEGORIES:School Calendar
END:VEVENT
BEGIN:VEVENT
DTSTART;VALUE=DATE:20240926
DTEND;VALUE=DATE:20240927
DTSTAMP:20260419T215232
CREATED:20240910T185129Z
LAST-MODIFIED:20240910T185129Z
UID:2028-1727308800-1727395199@oskaloosachristian.net
SUMMARY:Tator Tot Casserole\, Carrots\, Banana\, WG Caramel Roll\, Milk
DESCRIPTION:
URL:https://oskaloosachristian.net/event/tator-tot-casserole-carrots-banana-wg-caramel-roll-milk/
CATEGORIES:Lunch Calendar
END:VEVENT
BEGIN:VEVENT
DTSTART;VALUE=DATE:20240925
DTEND;VALUE=DATE:20240926
DTSTAMP:20260419T215232
CREATED:20240913T020802Z
LAST-MODIFIED:20240913T020802Z
UID:2054-1727222400-1727308799@oskaloosachristian.net
SUMMARY:TK - 8th Devotions
DESCRIPTION:
URL:https://oskaloosachristian.net/event/tk-8th-devotions-3/
CATEGORIES:School Calendar
END:VEVENT
BEGIN:VEVENT
DTSTART;VALUE=DATE:20240925
DTEND;VALUE=DATE:20240926
DTSTAMP:20260419T215232
CREATED:20240910T185043Z
LAST-MODIFIED:20240910T185043Z
UID:2027-1727222400-1727308799@oskaloosachristian.net
SUMMARY:BBQ Meatballs\, Mashed Potatoes\, Mixed Fruit\, WG Dinner Roll\, Milk
DESCRIPTION:
URL:https://oskaloosachristian.net/event/bbq-meatballs-mashed-potatoes-peaches-wg-dinner-roll-milk/
CATEGORIES:Lunch Calendar
END:VEVENT
BEGIN:VEVENT
DTSTART;VALUE=DATE:20240925
DTEND;VALUE=DATE:20240926
DTSTAMP:20260419T215232
CREATED:20240913T020826Z
LAST-MODIFIED:20240913T020826Z
UID:2055-1727222400-1727308799@oskaloosachristian.net
SUMMARY:2:15 Dismissal w/Buses
DESCRIPTION:
URL:https://oskaloosachristian.net/event/215-dismissal-w-buses-4/
CATEGORIES:School Calendar
END:VEVENT
BEGIN:VEVENT
DTSTART;VALUE=DATE:20240924
DTEND;VALUE=DATE:20240925
DTSTAMP:20260419T215232
CREATED:20240913T020644Z
LAST-MODIFIED:20240913T020644Z
UID:2052-1727136000-1727222399@oskaloosachristian.net
SUMMARY:Volleyball Game Home
DESCRIPTION:Volleyball Home Game vs. Pella Christian 4:30 PM
URL:https://oskaloosachristian.net/event/volleyball-game-home-2/
CATEGORIES:School Calendar
END:VEVENT
BEGIN:VEVENT
DTSTART;VALUE=DATE:20240924
DTEND;VALUE=DATE:20240925
DTSTAMP:20260419T215232
CREATED:20240910T184957Z
LAST-MODIFIED:20240910T184957Z
UID:2026-1727136000-1727222399@oskaloosachristian.net
SUMMARY:Hamburger/Cheeseburger on WG Bun\, French Fries\, Blueberries\, Pudding\, Milk
DESCRIPTION:
URL:https://oskaloosachristian.net/event/hamburger-cheeseburger-on-wg-bun-french-fries-blueberries-pudding-milk/
CATEGORIES:Lunch Calendar
END:VEVENT
BEGIN:VEVENT
DTSTART;VALUE=DATE:20240924
DTEND;VALUE=DATE:20240925
DTSTAMP:20260419T215232
CREATED:20240913T020731Z
LAST-MODIFIED:20240913T020731Z
UID:4378-1727136000-1727222399@oskaloosachristian.net
SUMMARY:PC MS Football Game Home
DESCRIPTION:PC MS Football Home Game vs. North Mahaska 4:15 PM
URL:https://oskaloosachristian.net/event/pc-ms-football-game-home/
CATEGORIES:School Calendar
END:VEVENT
BEGIN:VEVENT
DTSTART;VALUE=DATE:20240923
DTEND;VALUE=DATE:20240928
DTSTAMP:20260419T215232
CREATED:20240906T232605Z
LAST-MODIFIED:20240906T232605Z
UID:2003-1727049600-1727481599@oskaloosachristian.net
SUMMARY:MAP Testing 3-8
DESCRIPTION:
URL:https://oskaloosachristian.net/event/map-testing-3-8/
CATEGORIES:School Calendar
END:VEVENT
BEGIN:VEVENT
DTSTART;VALUE=DATE:20240923
DTEND;VALUE=DATE:20240924
DTSTAMP:20260419T215232
CREATED:20240910T184921Z
LAST-MODIFIED:20240910T184921Z
UID:2025-1727049600-1727135999@oskaloosachristian.net
SUMMARY:Burrito\, Nachos w/Cheese Sauce\, Corn\, Peaches\, Bar\, Milk
DESCRIPTION:
URL:https://oskaloosachristian.net/event/burrito-nachos-w-cheese-sauce-corn-peaches-bar-milk/
CATEGORIES:Lunch Calendar
END:VEVENT
BEGIN:VEVENT
DTSTART;VALUE=DATE:20240923
DTEND;VALUE=DATE:20240924
DTSTAMP:20260419T215232
CREATED:20240906T232419Z
LAST-MODIFIED:20240906T232419Z
UID:2001-1727049600-1727135999@oskaloosachristian.net
SUMMARY:TRIP Orders Due
DESCRIPTION:
URL:https://oskaloosachristian.net/event/trip-orders-due-2/
CATEGORIES:School Calendar
END:VEVENT
BEGIN:VEVENT
DTSTART;VALUE=DATE:20240920
DTEND;VALUE=DATE:20240921
DTSTAMP:20260419T215232
CREATED:20240910T184841Z
LAST-MODIFIED:20240910T184841Z
UID:2024-1726790400-1726876799@oskaloosachristian.net
SUMMARY:Weiner Winks\, Green Beans\, Pears\, Yogurt\, Milk
DESCRIPTION:
URL:https://oskaloosachristian.net/event/weiner-winks-green-beans-pears-yogurt-milk/
CATEGORIES:Lunch Calendar
END:VEVENT
BEGIN:VEVENT
DTSTART;VALUE=DATE:20240919
DTEND;VALUE=DATE:20240920
DTSTAMP:20260419T215232
CREATED:20240910T184804Z
LAST-MODIFIED:20240910T184804Z
UID:2023-1726704000-1726790399@oskaloosachristian.net
SUMMARY:Spaghetti\, Carrots\, Watermelon\, WG French Bread\, Milk
DESCRIPTION:
URL:https://oskaloosachristian.net/event/spaghetti-carrots-watermelon-wg-french-bread-milk/
CATEGORIES:Lunch Calendar
END:VEVENT
BEGIN:VEVENT
DTSTART;VALUE=DATE:20240919
DTEND;VALUE=DATE:20240920
DTSTAMP:20260419T215232
CREATED:20240906T232304Z
LAST-MODIFIED:20240906T232304Z
UID:2000-1726704000-1726790399@oskaloosachristian.net
SUMMARY:MS Football Game
DESCRIPTION:PC Middle School Football game @ Keota High School 4:15 PM.
URL:https://oskaloosachristian.net/event/ms-football-game-2/
CATEGORIES:School Calendar
END:VEVENT
BEGIN:VEVENT
DTSTART;VALUE=DATE:20240919
DTEND;VALUE=DATE:20240920
DTSTAMP:20260419T215232
CREATED:20240906T232207Z
LAST-MODIFIED:20240906T232207Z
UID:1999-1726704000-1726790399@oskaloosachristian.net
SUMMARY:Volleyball Game @ PC
DESCRIPTION:Join the volleyball players at PC @4:30 PM.
URL:https://oskaloosachristian.net/event/volleyball-game-pc/
CATEGORIES:School Calendar
END:VEVENT
BEGIN:VEVENT
DTSTART;VALUE=DATE:20240918
DTEND;VALUE=DATE:20240919
DTSTAMP:20260419T215232
CREATED:20240910T184732Z
LAST-MODIFIED:20240910T184732Z
UID:2022-1726617600-1726703999@oskaloosachristian.net
SUMMARY:Chicken Nuggets\, Mashed Potatoes\, Mixed Fruit\, WG Dinner Roll\, Milk
DESCRIPTION:
URL:https://oskaloosachristian.net/event/chicken-nuggets-mashed-potatoes-mixed-fruit-wg-dinner-roll-milk/
CATEGORIES:Lunch Calendar
END:VEVENT
BEGIN:VEVENT
DTSTART;VALUE=DATE:20240918
DTEND;VALUE=DATE:20240919
DTSTAMP:20260419T215232
CREATED:20240906T233437Z
LAST-MODIFIED:20240906T233437Z
UID:2006-1726617600-1726703999@oskaloosachristian.net
SUMMARY:Amy DeBoef Fundraiser
DESCRIPTION:
URL:https://oskaloosachristian.net/event/amy-deboef-fundraiser/
CATEGORIES:School Calendar
END:VEVENT
BEGIN:VEVENT
DTSTART;VALUE=DATE:20240918
DTEND;VALUE=DATE:20240919
DTSTAMP:20260419T215232
CREATED:20240906T232107Z
LAST-MODIFIED:20240906T232107Z
UID:1998-1726617600-1726703999@oskaloosachristian.net
SUMMARY:2:15 Dismissal w/Buses
DESCRIPTION:
URL:https://oskaloosachristian.net/event/215-dismissal-w-buses-3/
CATEGORIES:School Calendar
END:VEVENT
BEGIN:VEVENT
DTSTART;VALUE=DATE:20240918
DTEND;VALUE=DATE:20240919
DTSTAMP:20260419T215232
CREATED:20240906T232016Z
LAST-MODIFIED:20240906T232016Z
UID:1997-1726617600-1726703999@oskaloosachristian.net
SUMMARY:TK - 8th Devotions
DESCRIPTION:
URL:https://oskaloosachristian.net/event/tk-8th-devotions-2/
CATEGORIES:School Calendar
END:VEVENT
BEGIN:VEVENT
DTSTART;VALUE=DATE:20240917
DTEND;VALUE=DATE:20240918
DTSTAMP:20260419T215232
CREATED:20240910T184633Z
LAST-MODIFIED:20240910T184633Z
UID:2021-1726531200-1726617599@oskaloosachristian.net
SUMMARY:Sloppy Joe WG Bun\, French Fries\, Fruit Cup\, Bar\, Milk
DESCRIPTION:
URL:https://oskaloosachristian.net/event/sloppy-joe-wg-bun-french-fries-fruit-cup-bar-milk/
CATEGORIES:Lunch Calendar
END:VEVENT
BEGIN:VEVENT
DTSTART;VALUE=DATE:20240916
DTEND;VALUE=DATE:20240921
DTSTAMP:20260419T215232
CREATED:20240906T232511Z
LAST-MODIFIED:20240906T232511Z
UID:2002-1726444800-1726876799@oskaloosachristian.net
SUMMARY:Dibels Testing TK-5
DESCRIPTION:
URL:https://oskaloosachristian.net/event/dibels-testing-tk-5/
CATEGORIES:School Calendar
END:VEVENT
BEGIN:VEVENT
DTSTART;VALUE=DATE:20240916
DTEND;VALUE=DATE:20240918
DTSTAMP:20260419T215232
CREATED:20240906T231912Z
LAST-MODIFIED:20240906T231912Z
UID:1996-1726444800-1726617599@oskaloosachristian.net
SUMMARY:Wear Red Day
DESCRIPTION:
URL:https://oskaloosachristian.net/event/wear-red-day/
CATEGORIES:School Calendar
END:VEVENT
BEGIN:VEVENT
DTSTART;VALUE=DATE:20240916
DTEND;VALUE=DATE:20240917
DTSTAMP:20260419T215232
CREATED:20240910T184539Z
LAST-MODIFIED:20240910T184539Z
UID:2020-1726444800-1726531199@oskaloosachristian.net
SUMMARY:Corn Dog\, Nachos w/Cheese Sauce\, Corn\, Peaches\, WG Dinner Roll\, Milk
DESCRIPTION:
URL:https://oskaloosachristian.net/event/corn-dog-nachos-w-cheese-sauce-corn-peaches-wg-dinner-roll-milk/
CATEGORIES:Lunch Calendar
END:VEVENT
BEGIN:VEVENT
DTSTART;VALUE=DATE:20240916
DTEND;VALUE=DATE:20240917
DTSTAMP:20260419T215232
CREATED:20240906T231801Z
LAST-MODIFIED:20240906T231801Z
UID:1995-1726444800-1726531199@oskaloosachristian.net
SUMMARY:Counselor
DESCRIPTION:The counselor will be here for 6 – 8th grades.
URL:https://oskaloosachristian.net/event/counselor-2/
CATEGORIES:School Calendar
END:VEVENT
BEGIN:VEVENT
DTSTART;VALUE=DATE:20240916
DTEND;VALUE=DATE:20240917
DTSTAMP:20260419T215232
CREATED:20240906T231636Z
LAST-MODIFIED:20240906T231636Z
UID:1994-1726444800-1726531199@oskaloosachristian.net
SUMMARY:Volleyball Game @ Home
DESCRIPTION:The first volleyball game will be at home vs Osky Public @ 4:30 PM.
URL:https://oskaloosachristian.net/event/volleyball-game-home/
CATEGORIES:School Calendar
END:VEVENT
BEGIN:VEVENT
DTSTART;TZID=UTC:20240913T081000
DTEND;TZID=UTC:20240913T090000
DTSTAMP:20260419T215232
CREATED:20240901T010355Z
LAST-MODIFIED:20240901T010355Z
UID:1831-1726215000-1726218000@oskaloosachristian.net
SUMMARY:JOY Chapel
DESCRIPTION:Wear your theme t-shirts and come and join the 8th graders as they host chapel beginning at 8:10 AM.
URL:https://oskaloosachristian.net/event/chapel/
CATEGORIES:School Calendar
END:VEVENT
BEGIN:VEVENT
DTSTART;VALUE=DATE:20240913
DTEND;VALUE=DATE:20240914
DTSTAMP:20260419T215232
CREATED:20240906T231510Z
LAST-MODIFIED:20240906T231510Z
UID:4377-1726185600-1726271999@oskaloosachristian.net
SUMMARY:Board/Staff/SONshine Social
DESCRIPTION:
URL:https://oskaloosachristian.net/event/board-staff-sonshine-social/
CATEGORIES:School Calendar
END:VEVENT
BEGIN:VEVENT
DTSTART;VALUE=DATE:20240913
DTEND;VALUE=DATE:20240914
DTSTAMP:20260419T215232
CREATED:20240906T231414Z
LAST-MODIFIED:20240906T231414Z
UID:1992-1726185600-1726271999@oskaloosachristian.net
SUMMARY:Mum Order Pick Up
DESCRIPTION:Come and pick up your mums you ordered between 2:30 – 5:30 PM.
URL:https://oskaloosachristian.net/event/mum-order-pick-up/
CATEGORIES:School Calendar
END:VEVENT
END:VCALENDAR