BEGIN:VCALENDAR
VERSION:2.0
PRODID:-//Oskaloosa Christian School - ECPv6.15.20//NONSGML v1.0//EN
CALSCALE:GREGORIAN
METHOD:PUBLISH
X-WR-CALNAME:Oskaloosa Christian School
X-ORIGINAL-URL:https://oskaloosachristian.net
X-WR-CALDESC:Events for Oskaloosa Christian School
REFRESH-INTERVAL;VALUE=DURATION:PT1H
X-Robots-Tag:noindex
X-PUBLISHED-TTL:PT1H
BEGIN:VTIMEZONE
TZID:UTC
BEGIN:STANDARD
TZOFFSETFROM:+0000
TZOFFSETTO:+0000
TZNAME:UTC
DTSTART:20230101T000000
END:STANDARD
END:VTIMEZONE
BEGIN:VEVENT
DTSTART;VALUE=DATE:20240910
DTEND;VALUE=DATE:20240911
DTSTAMP:20260419T233549
CREATED:20240906T230845Z
LAST-MODIFIED:20240906T230845Z
UID:1990-1725926400-1726012799@oskaloosachristian.net
SUMMARY:MS Football Game
DESCRIPTION:PC Middle School Football game vs. Knoxville at PCHS beginning at 4:15 PM
URL:https://oskaloosachristian.net/event/ms-football-game/
CATEGORIES:School Calendar
END:VEVENT
BEGIN:VEVENT
DTSTART;VALUE=DATE:20240909
DTEND;VALUE=DATE:20240910
DTSTAMP:20260419T233549
CREATED:20240901T005903Z
LAST-MODIFIED:20240901T005903Z
UID:1827-1725840000-1725926399@oskaloosachristian.net
SUMMARY:TRIP Orders Due
DESCRIPTION:
URL:https://oskaloosachristian.net/event/trip-orders-due/
CATEGORIES:School Calendar
END:VEVENT
BEGIN:VEVENT
DTSTART;VALUE=DATE:20240909
DTEND;VALUE=DATE:20240910
DTSTAMP:20260419T233549
CREATED:20240901T011508Z
LAST-MODIFIED:20240901T011508Z
UID:1838-1725840000-1725926399@oskaloosachristian.net
SUMMARY:Pancakes\, Lil' Smokies\, Hash Brown Potatoes\, Orange Juice\, Milk
DESCRIPTION:
URL:https://oskaloosachristian.net/event/pancakes-lil-smokies-hash-brown-potatoes-orange-juice-milk/
CATEGORIES:Lunch Calendar
END:VEVENT
BEGIN:VEVENT
DTSTART;VALUE=DATE:20240909
DTEND;VALUE=DATE:20240910
DTSTAMP:20260419T233549
CREATED:20240901T010031Z
LAST-MODIFIED:20240901T010031Z
UID:1828-1725840000-1725926399@oskaloosachristian.net
SUMMARY:Counselor
DESCRIPTION:Mrs. Vander Leest  will visit TK\, 2nd\, and 5th classrooms.
URL:https://oskaloosachristian.net/event/counselor/
CATEGORIES:School Calendar
END:VEVENT
BEGIN:VEVENT
DTSTART;TZID=UTC:20240906T081000
DTEND;TZID=UTC:20240906T090000
DTSTAMP:20260419T233549
CREATED:20240901T005441Z
LAST-MODIFIED:20240901T005441Z
UID:1821-1725610200-1725613200@oskaloosachristian.net
SUMMARY:TK - 8 Praise Chapel
DESCRIPTION:Join us for a time of worship and praise let by the 8th graders.
URL:https://oskaloosachristian.net/event/tk-8-praise-chapel/
LOCATION:OC Gym
CATEGORIES:School Calendar
END:VEVENT
BEGIN:VEVENT
DTSTART;VALUE=DATE:20240906
DTEND;VALUE=DATE:20240907
DTSTAMP:20260419T233549
CREATED:20240901T011339Z
LAST-MODIFIED:20240901T011339Z
UID:1837-1725580800-1725667199@oskaloosachristian.net
SUMMARY:French Bread Pizza\, Baked Beans\, Peaches\, Yogurt\, Milk
DESCRIPTION:
URL:https://oskaloosachristian.net/event/french-bread-pizza-baked-beans-peaches-yogurt-milk/
CATEGORIES:Lunch Calendar
END:VEVENT
BEGIN:VEVENT
DTSTART;VALUE=DATE:20240906
DTEND;VALUE=DATE:20240907
DTSTAMP:20260419T233549
CREATED:20240901T005829Z
LAST-MODIFIED:20240901T005829Z
UID:1826-1725580800-1725667199@oskaloosachristian.net
SUMMARY:School Apparel Order Due
DESCRIPTION:
URL:https://oskaloosachristian.net/event/school-apparel-order-due/
CATEGORIES:School Calendar
END:VEVENT
BEGIN:VEVENT
DTSTART;VALUE=DATE:20240906
DTEND;VALUE=DATE:20240907
DTSTAMP:20260419T233549
CREATED:20240901T005745Z
LAST-MODIFIED:20240901T005745Z
UID:1825-1725580800-1725667199@oskaloosachristian.net
SUMMARY:Mum Orders Due
DESCRIPTION:
URL:https://oskaloosachristian.net/event/mum-orders-due/
CATEGORIES:School Calendar
END:VEVENT
BEGIN:VEVENT
DTSTART;VALUE=DATE:20240906
DTEND;VALUE=DATE:20240907
DTSTAMP:20260419T233549
CREATED:20240901T005534Z
LAST-MODIFIED:20240901T005534Z
UID:1823-1725580800-1725667199@oskaloosachristian.net
SUMMARY:School Pictures
DESCRIPTION:
URL:https://oskaloosachristian.net/event/school-pictures/
CATEGORIES:School Calendar
END:VEVENT
BEGIN:VEVENT
DTSTART;VALUE=DATE:20240905
DTEND;VALUE=DATE:20240906
DTSTAMP:20260419T233549
CREATED:20240901T011300Z
LAST-MODIFIED:20240901T011300Z
UID:1836-1725494400-1725580799@oskaloosachristian.net
SUMMARY:Mac-N-Cheese\, Ham\, Broccoli\, Strawberries\, WG Dinner Roll\, Milk
DESCRIPTION:
URL:https://oskaloosachristian.net/event/mac-n-cheese-ham-broccoli-strawberries-wg-dinner-roll-milk/
CATEGORIES:Lunch Calendar
END:VEVENT
BEGIN:VEVENT
DTSTART;TZID=UTC:20240904T080000
DTEND;TZID=UTC:20240904T170000
DTSTAMP:20260419T233549
CREATED:20240901T011221Z
LAST-MODIFIED:20240901T011221Z
UID:1835-1725436800-1725469200@oskaloosachristian.net
SUMMARY:Country Fried Steak\, Mashed Potatoes\, Mixed Fruit\, WG Dinner Roll\, Milk
DESCRIPTION:
URL:https://oskaloosachristian.net/event/country-fried-steak-mashed-potatoes-mixed-fruit-wg-dinner-roll-milk/
CATEGORIES:Lunch Calendar
END:VEVENT
BEGIN:VEVENT
DTSTART;TZID=UTC:20240904T080000
DTEND;TZID=UTC:20240904T170000
DTSTAMP:20260419T233549
CREATED:20240901T010122Z
LAST-MODIFIED:20240901T010122Z
UID:1829-1725436800-1725469200@oskaloosachristian.net
SUMMARY:2:15 Dismissal w/Buses
DESCRIPTION:
URL:https://oskaloosachristian.net/event/215-dismissal-w-buses/
CATEGORIES:School Calendar
END:VEVENT
BEGIN:VEVENT
DTSTART;VALUE=DATE:20240904
DTEND;VALUE=DATE:20240905
DTSTAMP:20260419T233549
CREATED:20240901T010741Z
LAST-MODIFIED:20240901T010741Z
UID:1832-1725408000-1725494399@oskaloosachristian.net
SUMMARY:Favorite Team Dress Up Day
DESCRIPTION:
URL:https://oskaloosachristian.net/event/favorite-team-dress-up-day/
CATEGORIES:School Calendar
END:VEVENT
BEGIN:VEVENT
DTSTART;TZID=UTC:20240903T080000
DTEND;TZID=UTC:20240903T170000
DTSTAMP:20260419T233549
CREATED:20240901T010911Z
LAST-MODIFIED:20240901T010911Z
UID:1833-1725350400-1725382800@oskaloosachristian.net
SUMMARY:Chicken Patty on WG Bun\, Corn\, Watermelon\, Bar\, Milk
DESCRIPTION:
URL:https://oskaloosachristian.net/event/chicken-patty-on-wg-bun-corn-watermelon-bar-milk/
CATEGORIES:Lunch Calendar
END:VEVENT
BEGIN:VEVENT
DTSTART;VALUE=DATE:20240823
DTEND;VALUE=DATE:20240824
DTSTAMP:20260419T233549
CREATED:20240831T200109Z
LAST-MODIFIED:20240831T200109Z
UID:1816-1724371200-1724457599@oskaloosachristian.net
SUMMARY:1st Day of School
DESCRIPTION:
URL:https://oskaloosachristian.net/event/1st-day-of-school/
CATEGORIES:School Calendar
END:VEVENT
END:VCALENDAR