BEGIN:VCALENDAR
VERSION:2.0
PRODID:-//Oskaloosa Christian School - ECPv6.15.20//NONSGML v1.0//EN
CALSCALE:GREGORIAN
METHOD:PUBLISH
X-WR-CALNAME:Oskaloosa Christian School
X-ORIGINAL-URL:https://oskaloosachristian.net
X-WR-CALDESC:Events for Oskaloosa Christian School
REFRESH-INTERVAL;VALUE=DURATION:PT1H
X-Robots-Tag:noindex
X-PUBLISHED-TTL:PT1H
BEGIN:VTIMEZONE
TZID:UTC
BEGIN:STANDARD
TZOFFSETFROM:+0000
TZOFFSETTO:+0000
TZNAME:UTC
DTSTART:20230101T000000
END:STANDARD
END:VTIMEZONE
BEGIN:VEVENT
DTSTART;TZID=UTC:20241113T170000
DTEND;TZID=UTC:20241113T190000
DTSTAMP:20260419T185113
CREATED:20241105T235948Z
LAST-MODIFIED:20241105T235948Z
UID:4415-1731517200-1731524400@oskaloosachristian.net
SUMMARY:Yang Benefit Dinner
DESCRIPTION:Enjoy a Pulled Pork meal with all proceeds going to the Yang Family.
URL:https://oskaloosachristian.net/event/yang-benefit-dinner/
CATEGORIES:School Calendar
END:VEVENT
BEGIN:VEVENT
DTSTART;TZID=UTC:20241113T080000
DTEND;TZID=UTC:20241113T170000
DTSTAMP:20260419T185113
CREATED:20241108T032830Z
LAST-MODIFIED:20241108T032830Z
UID:4443-1731484800-1731517200@oskaloosachristian.net
SUMMARY:Mandarin Orange Chicken\, Rice\, Green Beans\, Strawberry cups\, WG Dinner roll\, Milk
DESCRIPTION:
URL:https://oskaloosachristian.net/event/mandarin-orange-chicken-rice-green-beans-mixed-fruit-wg-dinner-roll-milk/
CATEGORIES:Lunch Calendar
END:VEVENT
BEGIN:VEVENT
DTSTART;VALUE=DATE:20241113
DTEND;VALUE=DATE:20241114
DTSTAMP:20260419T185113
CREATED:20241015T210532Z
LAST-MODIFIED:20241015T210532Z
UID:2342-1731456000-1731542399@oskaloosachristian.net
SUMMARY:2:15 Dismissal w/Osky Buses
DESCRIPTION:
URL:https://oskaloosachristian.net/event/215-dismissal-w-osky-buses-3/
CATEGORIES:School Calendar
END:VEVENT
BEGIN:VEVENT
DTSTART;TZID=UTC:20241112T080000
DTEND;TZID=UTC:20241112T170000
DTSTAMP:20260419T185113
CREATED:20241101T012244Z
LAST-MODIFIED:20241101T012244Z
UID:4413-1731398400-1731430800@oskaloosachristian.net
SUMMARY:Pork Tenderloin on WG Bun\, French Fries\, Applesauce\, Bar\, Milk
DESCRIPTION:Pork
URL:https://oskaloosachristian.net/event/pork-tenderloin-on-wg-bun-french-fries-applesauce-bar-milk/
CATEGORIES:Lunch Calendar
END:VEVENT
BEGIN:VEVENT
DTSTART;TZID=UTC:20241111T080000
DTEND;TZID=UTC:20241111T170000
DTSTAMP:20260419T185113
CREATED:20241108T032559Z
LAST-MODIFIED:20241108T032559Z
UID:4442-1731312000-1731344400@oskaloosachristian.net
SUMMARY:Burrito\, Nachos w/cheese\, Broccoli\, Peaches\, WG Cinnamon Roll\, Milk
DESCRIPTION:
URL:https://oskaloosachristian.net/event/burrito-nachos-w-cheese-broccoli-peaches-wg-cinnamon-roll-milk/
CATEGORIES:Lunch Calendar
END:VEVENT
BEGIN:VEVENT
DTSTART;TZID=UTC:20241111T080000
DTEND;TZID=UTC:20241111T090000
DTSTAMP:20260419T185113
CREATED:20241015T204535Z
LAST-MODIFIED:20241015T204535Z
UID:2336-1731312000-1731315600@oskaloosachristian.net
SUMMARY:Veterans Day Assembly
DESCRIPTION:
URL:https://oskaloosachristian.net/event/veterans-day-assembly/
CATEGORIES:School Calendar
END:VEVENT
BEGIN:VEVENT
DTSTART;VALUE=DATE:20241111
DTEND;VALUE=DATE:20241112
DTSTAMP:20260419T185113
CREATED:20241105T233441Z
LAST-MODIFIED:20241105T233441Z
UID:4414-1731283200-1731369599@oskaloosachristian.net
SUMMARY:No Osky buses all day
DESCRIPTION:
URL:https://oskaloosachristian.net/event/no-osky-buses-all-day/
CATEGORIES:School Calendar
END:VEVENT
BEGIN:VEVENT
DTSTART;VALUE=DATE:20241111
DTEND;VALUE=DATE:20241112
DTSTAMP:20260419T185113
CREATED:20241015T201838Z
LAST-MODIFIED:20241015T201838Z
UID:2335-1731283200-1731369599@oskaloosachristian.net
SUMMARY:Counselor
DESCRIPTION:Mrs. Vander Leest will be teaching in Grades 6th-8th
URL:https://oskaloosachristian.net/event/counselor-7/
CATEGORIES:School Calendar
END:VEVENT
BEGIN:VEVENT
DTSTART;TZID=UTC:20241108T081000
DTEND;TZID=UTC:20241108T090000
DTSTAMP:20260419T185113
CREATED:20241015T201128Z
LAST-MODIFIED:20241015T201128Z
UID:4385-1731053400-1731056400@oskaloosachristian.net
SUMMARY:Thanksgiving Chapel
DESCRIPTION:Thanksgiving Chapel hosted by 6th Graders
URL:https://oskaloosachristian.net/event/thanksgiving-chapel-2/
CATEGORIES:School Calendar
END:VEVENT
BEGIN:VEVENT
DTSTART;TZID=UTC:20241108T080000
DTEND;TZID=UTC:20241108T170000
DTSTAMP:20260419T185113
CREATED:20241101T011323Z
LAST-MODIFIED:20241101T011323Z
UID:4412-1731052800-1731085200@oskaloosachristian.net
SUMMARY:Bosco Sticks w/marinara sauce\, Green Beans\, Pears\, Yogurt\, Milk
DESCRIPTION:
URL:https://oskaloosachristian.net/event/bosco-sticks-w-marinara-sauce-green-beans-pears-yogurt-milk/
CATEGORIES:Lunch Calendar
END:VEVENT
BEGIN:VEVENT
DTSTART;VALUE=DATE:20241108
DTEND;VALUE=DATE:20241109
DTSTAMP:20260419T185113
CREATED:20241015T200943Z
LAST-MODIFIED:20241015T200943Z
UID:4384-1731024000-1731110399@oskaloosachristian.net
SUMMARY:Thanksgiving Chapel
DESCRIPTION:Thanksgiving Chapel at 8:10 hosted by 6th Graders
URL:https://oskaloosachristian.net/event/thanksgiving-chapel/
END:VEVENT
BEGIN:VEVENT
DTSTART;TZID=UTC:20241107T080000
DTEND;TZID=UTC:20241107T170000
DTSTAMP:20260419T185113
CREATED:20241101T011046Z
LAST-MODIFIED:20241101T011046Z
UID:4411-1730966400-1730998800@oskaloosachristian.net
SUMMARY:Lasagne\, Carrots\, Mandarin Oranges\, WG French Bread\, Milk
DESCRIPTION:Lasa
URL:https://oskaloosachristian.net/event/lasagne-carrots-mandarin-oranges-wg-french-bread-milk/
CATEGORIES:Lunch Calendar
END:VEVENT
BEGIN:VEVENT
DTSTART;TZID=UTC:20241106T080000
DTEND;TZID=UTC:20241106T170000
DTSTAMP:20260419T185113
CREATED:20241101T010913Z
LAST-MODIFIED:20241101T010913Z
UID:4410-1730880000-1730912400@oskaloosachristian.net
SUMMARY:Country Fried Steak\, Mashed Potatoes\, Mixed Fruit\, WG Dinner Roll\, Milk
DESCRIPTION:
URL:https://oskaloosachristian.net/event/country-fried-steak-mashed-potatoes-mixed-fruit-wg-dinner-roll-milk-3/
CATEGORIES:Lunch Calendar
END:VEVENT
BEGIN:VEVENT
DTSTART;VALUE=DATE:20241106
DTEND;VALUE=DATE:20241107
DTSTAMP:20260419T185113
CREATED:20241015T200340Z
LAST-MODIFIED:20241015T200340Z
UID:2332-1730851200-1730937599@oskaloosachristian.net
SUMMARY:2:15 Dismissal w/Osky Buses
DESCRIPTION:
URL:https://oskaloosachristian.net/event/215-dismissal-w-osky-buses/
CATEGORIES:School Calendar
END:VEVENT
BEGIN:VEVENT
DTSTART;TZID=UTC:20241105T190000
DTEND;TZID=UTC:20241105T190000
DTSTAMP:20260419T185113
CREATED:20241015T200017Z
LAST-MODIFIED:20241015T200017Z
UID:4383-1730833200-1730833200@oskaloosachristian.net
SUMMARY:Advancement Meeting
DESCRIPTION:Advancement Committee Meeting
URL:https://oskaloosachristian.net/event/advancement-meeting-2/
CATEGORIES:School Calendar
END:VEVENT
BEGIN:VEVENT
DTSTART;TZID=UTC:20241105T190000
DTEND;TZID=UTC:20241105T190000
DTSTAMP:20260419T185113
CREATED:20241014T232013Z
LAST-MODIFIED:20241014T232013Z
UID:2327-1730833200-1730833200@oskaloosachristian.net
SUMMARY:Advancement Comm. Mtg.
DESCRIPTION:
URL:https://oskaloosachristian.net/event/advancement-comm-mtg/
END:VEVENT
BEGIN:VEVENT
DTSTART;TZID=UTC:20241105T081000
DTEND;TZID=UTC:20241105T090000
DTSTAMP:20260419T185114
CREATED:20241106T030257Z
LAST-MODIFIED:20241106T030257Z
UID:4441-1730794200-1730797200@oskaloosachristian.net
SUMMARY:TK-8 Chapel
DESCRIPTION:The 1st Graders will host our April TK-8th Chapel.
URL:https://oskaloosachristian.net/event/tk-8-chapel/
CATEGORIES:School Calendar
END:VEVENT
BEGIN:VEVENT
DTSTART;TZID=UTC:20241105T080000
DTEND;TZID=UTC:20241105T170000
DTSTAMP:20260419T185114
CREATED:20241031T001824Z
LAST-MODIFIED:20241031T001824Z
UID:4409-1730793600-1730826000@oskaloosachristian.net
SUMMARY:Sloppy Joe on WG Bun\, Broccoli w/cheese sauce\, Peaches\, Bar\, Milk
DESCRIPTION:
URL:https://oskaloosachristian.net/event/sloppy-joe-on-wg-bun-broccoli-w-cheese-sauce-peaches-bar-milk/
CATEGORIES:Lunch Calendar
END:VEVENT
BEGIN:VEVENT
DTSTART;TZID=UTC:20241104T080000
DTEND;TZID=UTC:20241104T170000
DTSTAMP:20260419T185114
CREATED:20241030T202141Z
LAST-MODIFIED:20241030T202141Z
UID:2470-1730707200-1730739600@oskaloosachristian.net
SUMMARY:Pancakes\, Lil' Smokies\, Hashbrown Potato\, Orange\, Milk
DESCRIPTION:
URL:https://oskaloosachristian.net/event/pancakes-lil-smokies-hashbrown-potato-orange-milk/
CATEGORIES:Lunch Calendar
END:VEVENT
BEGIN:VEVENT
DTSTART;VALUE=DATE:20241104
DTEND;VALUE=DATE:20241105
DTSTAMP:20260419T185114
CREATED:20241015T193404Z
LAST-MODIFIED:20241015T193404Z
UID:2329-1730678400-1730764799@oskaloosachristian.net
SUMMARY:Counselor
DESCRIPTION:Mrs. Vander Leest will be teaching in grades TK\, 2nd\, and 5th
URL:https://oskaloosachristian.net/event/counselor-6/
CATEGORIES:School Calendar
END:VEVENT
BEGIN:VEVENT
DTSTART;TZID=UTC:20241101T080000
DTEND;TZID=UTC:20241101T170000
DTSTAMP:20260419T185114
CREATED:20240926T041111Z
LAST-MODIFIED:20240926T041111Z
UID:2167-1730448000-1730480400@oskaloosachristian.net
SUMMARY:Max's Pizza\, Green Beans\, Pears\, Breadsticks w/marinara sauce\, Milk
DESCRIPTION:
URL:https://oskaloosachristian.net/event/maxs-pizza-green-beans-pears-breadsticks-w-marinara-sauce-milk/
CATEGORIES:Lunch Calendar
END:VEVENT
BEGIN:VEVENT
DTSTART;TZID=UTC:20241031T080000
DTEND;TZID=UTC:20241031T170000
DTSTAMP:20260419T185114
CREATED:20240926T040958Z
LAST-MODIFIED:20240926T040958Z
UID:2165-1730361600-1730394000@oskaloosachristian.net
SUMMARY:Sub Sandwich\, Carrots\, Apple Slices\, Sun Chips\, Bar\, Milk
DESCRIPTION:
URL:https://oskaloosachristian.net/event/sub-sandwich-carrots-apple-slices-sun-chips-bar-milk/
CATEGORIES:Lunch Calendar
END:VEVENT
BEGIN:VEVENT
DTSTART;TZID=UTC:20241030T080000
DTEND;TZID=UTC:20241030T170000
DTSTAMP:20260419T185114
CREATED:20240926T040741Z
LAST-MODIFIED:20240926T040741Z
UID:2164-1730275200-1730307600@oskaloosachristian.net
SUMMARY:Pre-3rd\, Chicken Nuggets\, Mashed Potatoes\, Mixed Fruit\, WG Dinner Roll\, Milk 4-8 sack lunch
DESCRIPTION:
URL:https://oskaloosachristian.net/event/country-fried-steak-mashed-potatoes-mixed-fruit-wg-dinner-roll-milk-2/
CATEGORIES:Lunch Calendar
END:VEVENT
BEGIN:VEVENT
DTSTART;VALUE=DATE:20241030
DTEND;VALUE=DATE:20241031
DTSTAMP:20260419T185114
CREATED:20241008T224810Z
LAST-MODIFIED:20241008T224810Z
UID:2313-1730246400-1730332799@oskaloosachristian.net
SUMMARY:Fiddler on the Roof
DESCRIPTION:Grades 4 – 8 will be attending the Fiddler on the Roof production at PCHS. Students will be leaving school at 10:00 AM and returning by dismissal.
URL:https://oskaloosachristian.net/event/fiddler-on-the-roof/
CATEGORIES:School Calendar
END:VEVENT
BEGIN:VEVENT
DTSTART;VALUE=DATE:20241030
DTEND;VALUE=DATE:20241031
DTSTAMP:20260419T185114
CREATED:20241008T224514Z
LAST-MODIFIED:20241008T224514Z
UID:2311-1730246400-1730332799@oskaloosachristian.net
SUMMARY:2:15 Dismissal w/Buses
DESCRIPTION:
URL:https://oskaloosachristian.net/event/215-dismissal-w-buses-5/
CATEGORIES:School Calendar
END:VEVENT
BEGIN:VEVENT
DTSTART;TZID=UTC:20241029T080000
DTEND;TZID=UTC:20241029T170000
DTSTAMP:20260419T185114
CREATED:20240926T040655Z
LAST-MODIFIED:20240926T040655Z
UID:4379-1730188800-1730221200@oskaloosachristian.net
SUMMARY:Hamburger/Cheeseburger\, French Fries\, Blueberries\, Pudding\, Milk
DESCRIPTION:
URL:https://oskaloosachristian.net/event/hamburger-cheeseburger-french-fries-blueberries-pudding-milk/
CATEGORIES:Lunch Calendar
END:VEVENT
BEGIN:VEVENT
DTSTART;TZID=UTC:20241028T080000
DTEND;TZID=UTC:20241028T170000
DTSTAMP:20260419T185114
CREATED:20240926T040535Z
LAST-MODIFIED:20240926T040535Z
UID:2161-1730102400-1730134800@oskaloosachristian.net
SUMMARY:Chicken Soup\, Corn\, Peaches\, WG Cinnamon Roll\, Milk
DESCRIPTION:C
URL:https://oskaloosachristian.net/event/chicken-soup-carrots-peaches-wg-cinnamon-roll-milk/
CATEGORIES:Lunch Calendar
END:VEVENT
BEGIN:VEVENT
DTSTART;VALUE=DATE:20241028
DTEND;VALUE=DATE:20241029
DTSTAMP:20260419T185114
CREATED:20241008T224438Z
LAST-MODIFIED:20241008T224438Z
UID:2310-1730073600-1730159999@oskaloosachristian.net
SUMMARY:Counselor
DESCRIPTION:Our counselor will be here and will be teaching in grades 1\, 3\, and 4.
URL:https://oskaloosachristian.net/event/counselor-4/
CATEGORIES:School Calendar
END:VEVENT
BEGIN:VEVENT
DTSTART;TZID=UTC:20241025T080000
DTEND;TZID=UTC:20241025T170000
DTSTAMP:20260419T185114
CREATED:20240926T040443Z
LAST-MODIFIED:20240926T040443Z
UID:2160-1729843200-1729875600@oskaloosachristian.net
SUMMARY:No Lunch - No School
DESCRIPTION:
URL:https://oskaloosachristian.net/event/no-lunch-no-school/
CATEGORIES:Lunch Calendar
END:VEVENT
BEGIN:VEVENT
DTSTART;VALUE=DATE:20241025
DTEND;VALUE=DATE:20241026
DTSTAMP:20260419T185114
CREATED:20241008T224345Z
LAST-MODIFIED:20241008T224345Z
UID:2309-1729814400-1729900799@oskaloosachristian.net
SUMMARY:P/T Conferences 8:30 - Noon
DESCRIPTION:
URL:https://oskaloosachristian.net/event/p-t-conferences-830-noon/
CATEGORIES:School Calendar
END:VEVENT
END:VCALENDAR