BEGIN:VCALENDAR
VERSION:2.0
PRODID:-//Oskaloosa Christian School - ECPv6.15.20//NONSGML v1.0//EN
CALSCALE:GREGORIAN
METHOD:PUBLISH
X-WR-CALNAME:Oskaloosa Christian School
X-ORIGINAL-URL:https://oskaloosachristian.net
X-WR-CALDESC:Events for Oskaloosa Christian School
REFRESH-INTERVAL;VALUE=DURATION:PT1H
X-Robots-Tag:noindex
X-PUBLISHED-TTL:PT1H
BEGIN:VTIMEZONE
TZID:UTC
BEGIN:STANDARD
TZOFFSETFROM:+0000
TZOFFSETTO:+0000
TZNAME:UTC
DTSTART:20230101T000000
END:STANDARD
END:VTIMEZONE
BEGIN:VEVENT
DTSTART;VALUE=DATE:20241111
DTEND;VALUE=DATE:20241112
DTSTAMP:20260419T212117
CREATED:20241105T233441Z
LAST-MODIFIED:20241105T233441Z
UID:4414-1731283200-1731369599@oskaloosachristian.net
SUMMARY:No Osky buses all day
DESCRIPTION:
URL:https://oskaloosachristian.net/event/no-osky-buses-all-day/
CATEGORIES:School Calendar
END:VEVENT
BEGIN:VEVENT
DTSTART;TZID=UTC:20241111T080000
DTEND;TZID=UTC:20241111T090000
DTSTAMP:20260419T212117
CREATED:20241015T204535Z
LAST-MODIFIED:20241015T204535Z
UID:2336-1731312000-1731315600@oskaloosachristian.net
SUMMARY:Veterans Day Assembly
DESCRIPTION:
URL:https://oskaloosachristian.net/event/veterans-day-assembly/
CATEGORIES:School Calendar
END:VEVENT
BEGIN:VEVENT
DTSTART;TZID=UTC:20241111T080000
DTEND;TZID=UTC:20241111T170000
DTSTAMP:20260419T212117
CREATED:20241108T032559Z
LAST-MODIFIED:20241108T032559Z
UID:4442-1731312000-1731344400@oskaloosachristian.net
SUMMARY:Burrito\, Nachos w/cheese\, Broccoli\, Peaches\, WG Cinnamon Roll\, Milk
DESCRIPTION:
URL:https://oskaloosachristian.net/event/burrito-nachos-w-cheese-broccoli-peaches-wg-cinnamon-roll-milk/
CATEGORIES:Lunch Calendar
END:VEVENT
BEGIN:VEVENT
DTSTART;TZID=UTC:20241112T080000
DTEND;TZID=UTC:20241112T170000
DTSTAMP:20260419T212117
CREATED:20241101T012244Z
LAST-MODIFIED:20241101T012244Z
UID:4413-1731398400-1731430800@oskaloosachristian.net
SUMMARY:Pork Tenderloin on WG Bun\, French Fries\, Applesauce\, Bar\, Milk
DESCRIPTION:Pork
URL:https://oskaloosachristian.net/event/pork-tenderloin-on-wg-bun-french-fries-applesauce-bar-milk/
CATEGORIES:Lunch Calendar
END:VEVENT
BEGIN:VEVENT
DTSTART;VALUE=DATE:20241113
DTEND;VALUE=DATE:20241114
DTSTAMP:20260419T212117
CREATED:20241015T210532Z
LAST-MODIFIED:20241015T210532Z
UID:2342-1731456000-1731542399@oskaloosachristian.net
SUMMARY:2:15 Dismissal w/Osky Buses
DESCRIPTION:
URL:https://oskaloosachristian.net/event/215-dismissal-w-osky-buses-3/
CATEGORIES:School Calendar
END:VEVENT
BEGIN:VEVENT
DTSTART;TZID=UTC:20241113T080000
DTEND;TZID=UTC:20241113T170000
DTSTAMP:20260419T212117
CREATED:20241108T032830Z
LAST-MODIFIED:20241108T032830Z
UID:4443-1731484800-1731517200@oskaloosachristian.net
SUMMARY:Mandarin Orange Chicken\, Rice\, Green Beans\, Strawberry cups\, WG Dinner roll\, Milk
DESCRIPTION:
URL:https://oskaloosachristian.net/event/mandarin-orange-chicken-rice-green-beans-mixed-fruit-wg-dinner-roll-milk/
CATEGORIES:Lunch Calendar
END:VEVENT
BEGIN:VEVENT
DTSTART;TZID=UTC:20241113T170000
DTEND;TZID=UTC:20241113T190000
DTSTAMP:20260419T212117
CREATED:20241105T235948Z
LAST-MODIFIED:20241105T235948Z
UID:4415-1731517200-1731524400@oskaloosachristian.net
SUMMARY:Yang Benefit Dinner
DESCRIPTION:Enjoy a Pulled Pork meal with all proceeds going to the Yang Family.
URL:https://oskaloosachristian.net/event/yang-benefit-dinner/
CATEGORIES:School Calendar
END:VEVENT
BEGIN:VEVENT
DTSTART;VALUE=DATE:20241114
DTEND;VALUE=DATE:20241115
DTSTAMP:20260419T212117
CREATED:20241015T232253Z
LAST-MODIFIED:20241015T232253Z
UID:4398-1731542400-1731628799@oskaloosachristian.net
SUMMARY:Middle School Fall Festival
DESCRIPTION:
URL:https://oskaloosachristian.net/event/middle-school-fall-festival/
CATEGORIES:School Calendar
END:VEVENT
BEGIN:VEVENT
DTSTART;TZID=UTC:20241114T080000
DTEND;TZID=UTC:20241114T170000
DTSTAMP:20260419T212117
CREATED:20241108T033018Z
LAST-MODIFIED:20241108T033018Z
UID:4444-1731571200-1731603600@oskaloosachristian.net
SUMMARY:Taco Casserole\, Carrots\, Cinnamon Apples\, WG Caramel Roll\, Milk
DESCRIPTION:
URL:https://oskaloosachristian.net/event/taco-casserole-carrots-apple-slices-wg-caramel-roll-milk/
CATEGORIES:Lunch Calendar
END:VEVENT
BEGIN:VEVENT
DTSTART;TZID=UTC:20241114T151500
DTEND;TZID=UTC:20241114T161500
DTSTAMP:20260419T212117
CREATED:20241016T002258Z
LAST-MODIFIED:20241016T002258Z
UID:2399-1731597300-1731600900@oskaloosachristian.net
SUMMARY:Clover Kids
DESCRIPTION:Mammoth Discovery
URL:https://oskaloosachristian.net/event/clover-kids/
CATEGORIES:School Calendar
END:VEVENT
BEGIN:VEVENT
DTSTART;VALUE=DATE:20241115
DTEND;VALUE=DATE:20241116
DTSTAMP:20260419T212117
CREATED:20241015T232433Z
LAST-MODIFIED:20241015T232433Z
UID:4399-1731628800-1731715199@oskaloosachristian.net
SUMMARY:Operation Christmas Box
DESCRIPTION:6th-8th Graders
URL:https://oskaloosachristian.net/event/operation-christmas-box/
CATEGORIES:School Calendar
END:VEVENT
BEGIN:VEVENT
DTSTART;TZID=UTC:20241115T080000
DTEND;TZID=UTC:20241115T170000
DTSTAMP:20260419T212117
CREATED:20241108T042540Z
LAST-MODIFIED:20241108T042540Z
UID:4445-1731657600-1731690000@oskaloosachristian.net
SUMMARY:Homemade Pizza\, Baked Beans\, Pears\, WG Breadsticks w/marinara sauce\, Milk
DESCRIPTION:
URL:https://oskaloosachristian.net/event/homemade-pizza-baked-beans-pears-wg-breadsticks-w-marinara-sauce-milk/
CATEGORIES:Lunch Calendar
END:VEVENT
BEGIN:VEVENT
DTSTART;TZID=UTC:20241118T080000
DTEND;TZID=UTC:20241118T170000
DTSTAMP:20260419T212117
CREATED:20241108T043248Z
LAST-MODIFIED:20241108T043248Z
UID:4447-1731916800-1731949200@oskaloosachristian.net
SUMMARY:Chicken Fajita Quesadilla\, Nachos w/cheese\, Broccoli\, Peaches\, WG Dinner Roll\, Milk
DESCRIPTION:
URL:https://oskaloosachristian.net/event/chicken-fajita-quesadilla-nachos-w-cheese-broccoli-peaches-wg-dinner-roll-milk/
CATEGORIES:Lunch Calendar
END:VEVENT
BEGIN:VEVENT
DTSTART;TZID=UTC:20241119T080000
DTEND;TZID=UTC:20241119T170000
DTSTAMP:20260419T212117
CREATED:20241108T043818Z
LAST-MODIFIED:20241108T043818Z
UID:4449-1732003200-1732035600@oskaloosachristian.net
SUMMARY:Hot Dog on Wg Bun\, Carrots\, Chips\, Apple Slices\, Ice Cream Bar\, Milk
DESCRIPTION:
URL:https://oskaloosachristian.net/event/hot-dog-on-wg-bun-carrots-chips-apple-slices-ice-cream-bar-milk/
CATEGORIES:Lunch Calendar
END:VEVENT
BEGIN:VEVENT
DTSTART;VALUE=DATE:20241120
DTEND;VALUE=DATE:20241121
DTSTAMP:20260419T212117
CREATED:20241015T210415Z
LAST-MODIFIED:20241015T210415Z
UID:2337-1732060800-1732147199@oskaloosachristian.net
SUMMARY:2:15 Dismissal w/Osky Buses
DESCRIPTION:
URL:https://oskaloosachristian.net/event/215-dismissal-w-osky-buses-2/
CATEGORIES:School Calendar
END:VEVENT
BEGIN:VEVENT
DTSTART;TZID=UTC:20241120T080000
DTEND;TZID=UTC:20241120T170000
DTSTAMP:20260419T212117
CREATED:20241108T044205Z
LAST-MODIFIED:20241108T044205Z
UID:4451-1732089600-1732122000@oskaloosachristian.net
SUMMARY:Thanksgiving Dinner-Turkey\, Mashed Potatoes w/gravy\, Stuffing\, Corn\, Fruit cups\, Finger jello\, Pumpkin Pie Dessert\, WG Dinner Roll\, Milk
DESCRIPTION:
URL:https://oskaloosachristian.net/event/thanksgiving-dinner-turkey-mashed-potatoes-w-gravy-stuffing-corn-fruit-cups-finger-jello-pumpkin-pie-dessert-wg-dinner-roll-milk/
CATEGORIES:Lunch Calendar
END:VEVENT
BEGIN:VEVENT
DTSTART;TZID=UTC:20241121T080000
DTEND;TZID=UTC:20241121T170000
DTSTAMP:20260419T212117
CREATED:20241108T043609Z
LAST-MODIFIED:20241108T043609Z
UID:4448-1732176000-1732208400@oskaloosachristian.net
SUMMARY:Goulash\, Corn\, Pineapple\, Cornbread\, Milk
DESCRIPTION:
URL:https://oskaloosachristian.net/event/goulash-carrots-pineapple-cornbread-milk/
CATEGORIES:Lunch Calendar
END:VEVENT
BEGIN:VEVENT
DTSTART;TZID=UTC:20241121T080000
DTEND;TZID=UTC:20241121T170000
DTSTAMP:20260419T212117
CREATED:20241121T231452Z
LAST-MODIFIED:20241121T231452Z
UID:2749-1732176000-1732208400@oskaloosachristian.net
SUMMARY:No Lunch - Christmas Break
DESCRIPTION:
URL:https://oskaloosachristian.net/event/no-lunch-christmas-break-3/
END:VEVENT
BEGIN:VEVENT
DTSTART;VALUE=DATE:20241122
DTEND;VALUE=DATE:20241123
DTSTAMP:20260419T212117
CREATED:20241015T232552Z
LAST-MODIFIED:20241015T232552Z
UID:4400-1732233600-1732319999@oskaloosachristian.net
SUMMARY:TK-8 Fall Music Program
DESCRIPTION:7:00 pm
URL:https://oskaloosachristian.net/event/tk-8-fall-music-program/
LOCATION:OC Gym
CATEGORIES:School Calendar
END:VEVENT
BEGIN:VEVENT
DTSTART;TZID=UTC:20241122T080000
DTEND;TZID=UTC:20241122T170000
DTSTAMP:20260419T212117
CREATED:20241108T043920Z
LAST-MODIFIED:20241108T043920Z
UID:4450-1732262400-1732294800@oskaloosachristian.net
SUMMARY:French Bread Pizza\, Green Beans\, Pears\, Yogurt\, Milk
DESCRIPTION:
URL:https://oskaloosachristian.net/event/french-bread-pizza-green-beans-pears-yogurt-milk/
CATEGORIES:Lunch Calendar
END:VEVENT
BEGIN:VEVENT
DTSTART;VALUE=DATE:20241125
DTEND;VALUE=DATE:20241126
DTSTAMP:20260419T212117
CREATED:20241015T232823Z
LAST-MODIFIED:20241015T232823Z
UID:2374-1732492800-1732579199@oskaloosachristian.net
SUMMARY:Counselor
DESCRIPTION:Mrs. Vander Leest will be teaching in grades K\, 1\, 3\, and 4
URL:https://oskaloosachristian.net/event/counselor-8/
CATEGORIES:School Calendar
END:VEVENT
BEGIN:VEVENT
DTSTART;TZID=UTC:20241125T080000
DTEND;TZID=UTC:20241125T170000
DTSTAMP:20260419T212117
CREATED:20241108T042857Z
LAST-MODIFIED:20241108T042857Z
UID:4446-1732521600-1732554000@oskaloosachristian.net
SUMMARY:Chili Soup\, Carrots\, Peaches\, WG Cinnamon Roll\, Milk
DESCRIPTION:
URL:https://oskaloosachristian.net/event/chili-soup-carrots-peaches-wg-cinnamon-roll-milk/
CATEGORIES:Lunch Calendar
END:VEVENT
BEGIN:VEVENT
DTSTART;TZID=UTC:20241126T080000
DTEND;TZID=UTC:20241126T170000
DTSTAMP:20260419T212117
CREATED:20241108T044711Z
LAST-MODIFIED:20241108T044711Z
UID:4452-1732608000-1732640400@oskaloosachristian.net
SUMMARY:Chicken Patty on WG Bun\, French Fries\, Pears\, Bar\, Milk
DESCRIPTION:
URL:https://oskaloosachristian.net/event/chicken-patty-on-wg-bun-french-fries-pears-bar-milk/
CATEGORIES:Lunch Calendar
END:VEVENT
BEGIN:VEVENT
DTSTART;VALUE=DATE:20241127
DTEND;VALUE=DATE:20241128
DTSTAMP:20260419T212117
CREATED:20241015T232919Z
LAST-MODIFIED:20241015T232919Z
UID:2375-1732665600-1732751999@oskaloosachristian.net
SUMMARY:Noon Dismissal\, No Osky Buses all day
DESCRIPTION:
URL:https://oskaloosachristian.net/event/noon-dismissal-no-osky-buses-all-day/
END:VEVENT
BEGIN:VEVENT
DTSTART;TZID=UTC:20241127T080000
DTEND;TZID=UTC:20241127T170000
DTSTAMP:20260419T212117
CREATED:20241108T044913Z
LAST-MODIFIED:20241108T044913Z
UID:4453-1732694400-1732726800@oskaloosachristian.net
SUMMARY:No Lunch - 12:00 dismissal
DESCRIPTION:
URL:https://oskaloosachristian.net/event/no-lunch-1200-dismissal/
CATEGORIES:Lunch Calendar
END:VEVENT
BEGIN:VEVENT
DTSTART;VALUE=DATE:20241128
DTEND;VALUE=DATE:20241129
DTSTAMP:20260419T212117
CREATED:20241015T232946Z
LAST-MODIFIED:20241015T232946Z
UID:2376-1732752000-1732838399@oskaloosachristian.net
SUMMARY:No School
DESCRIPTION:Happy Thanksgiving!
URL:https://oskaloosachristian.net/event/no-school-2/
CATEGORIES:School Calendar
END:VEVENT
BEGIN:VEVENT
DTSTART;TZID=UTC:20241128T080000
DTEND;TZID=UTC:20241128T170000
DTSTAMP:20260419T212117
CREATED:20241108T044951Z
LAST-MODIFIED:20241108T044951Z
UID:4454-1732780800-1732813200@oskaloosachristian.net
SUMMARY:Thanksgiving Day - No School-No Lunch
DESCRIPTION:
URL:https://oskaloosachristian.net/event/thanksgiving-day-no-school-no-lunch/
CATEGORIES:Lunch Calendar
END:VEVENT
BEGIN:VEVENT
DTSTART;VALUE=DATE:20241129
DTEND;VALUE=DATE:20241130
DTSTAMP:20260419T212117
CREATED:20241015T233028Z
LAST-MODIFIED:20241015T233028Z
UID:2377-1732838400-1732924799@oskaloosachristian.net
SUMMARY:No School
DESCRIPTION:Thanksgiving Vacation
URL:https://oskaloosachristian.net/event/no-school-3/
CATEGORIES:School Calendar
END:VEVENT
BEGIN:VEVENT
DTSTART;TZID=UTC:20241129T080000
DTEND;TZID=UTC:20241129T170000
DTSTAMP:20260419T212117
CREATED:20241108T045048Z
LAST-MODIFIED:20241108T045048Z
UID:4455-1732867200-1732899600@oskaloosachristian.net
SUMMARY:No School - No Lunch
DESCRIPTION:
URL:https://oskaloosachristian.net/event/no-school-no-lunch/
CATEGORIES:Lunch Calendar
END:VEVENT
BEGIN:VEVENT
DTSTART;VALUE=DATE:20241202
DTEND;VALUE=DATE:20241203
DTSTAMP:20260419T212117
CREATED:20241015T233120Z
LAST-MODIFIED:20241015T233120Z
UID:4401-1733097600-1733183999@oskaloosachristian.net
SUMMARY:No School
DESCRIPTION:Staff Professional Development
URL:https://oskaloosachristian.net/event/no-school-4/
CATEGORIES:School Calendar
END:VEVENT
END:VCALENDAR