BEGIN:VCALENDAR
VERSION:2.0
PRODID:-//Oskaloosa Christian School - ECPv6.15.20//NONSGML v1.0//EN
CALSCALE:GREGORIAN
METHOD:PUBLISH
X-WR-CALNAME:Oskaloosa Christian School
X-ORIGINAL-URL:https://oskaloosachristian.net
X-WR-CALDESC:Events for Oskaloosa Christian School
REFRESH-INTERVAL;VALUE=DURATION:PT1H
X-Robots-Tag:noindex
X-PUBLISHED-TTL:PT1H
BEGIN:VTIMEZONE
TZID:UTC
BEGIN:STANDARD
TZOFFSETFROM:+0000
TZOFFSETTO:+0000
TZNAME:UTC
DTSTART:20250101T000000
END:STANDARD
END:VTIMEZONE
BEGIN:VTIMEZONE
TZID:America/Chicago
BEGIN:DAYLIGHT
TZOFFSETFROM:-0600
TZOFFSETTO:-0500
TZNAME:CDT
DTSTART:20250309T080000
END:DAYLIGHT
BEGIN:STANDARD
TZOFFSETFROM:-0500
TZOFFSETTO:-0600
TZNAME:CST
DTSTART:20251102T070000
END:STANDARD
BEGIN:DAYLIGHT
TZOFFSETFROM:-0600
TZOFFSETTO:-0500
TZNAME:CDT
DTSTART:20260308T080000
END:DAYLIGHT
BEGIN:STANDARD
TZOFFSETFROM:-0500
TZOFFSETTO:-0600
TZNAME:CST
DTSTART:20261101T070000
END:STANDARD
BEGIN:DAYLIGHT
TZOFFSETFROM:-0600
TZOFFSETTO:-0500
TZNAME:CDT
DTSTART:20270314T080000
END:DAYLIGHT
BEGIN:STANDARD
TZOFFSETFROM:-0500
TZOFFSETTO:-0600
TZNAME:CST
DTSTART:20271107T070000
END:STANDARD
END:VTIMEZONE
BEGIN:VEVENT
DTSTART;TZID=UTC:20260515T180000
DTEND;TZID=UTC:20260515T200000
DTSTAMP:20260419T103251
CREATED:20250819T210333Z
LAST-MODIFIED:20250819T210333Z
UID:4571-1778868000-1778875200@oskaloosachristian.net
SUMMARY:8th Grade Graduation
DESCRIPTION:
URL:https://oskaloosachristian.net/event/8th-grade-graduation/
CATEGORIES:School Calendar
END:VEVENT
BEGIN:VEVENT
DTSTART;TZID=UTC:20260518T080000
DTEND;TZID=UTC:20260518T141500
DTSTAMP:20260419T103251
CREATED:20250819T210130Z
LAST-MODIFIED:20260323T161349Z
UID:4568-1779091200-1779113700@oskaloosachristian.net
SUMMARY:2:15 Dismissal (No PM Bus)
DESCRIPTION:
URL:https://oskaloosachristian.net/event/215-dismissal-36/
CATEGORIES:School Calendar
END:VEVENT
BEGIN:VEVENT
DTSTART;TZID=UTC:20260518T080000
DTEND;TZID=UTC:20260518T141500
DTSTAMP:20260419T103251
CREATED:20250819T210202Z
LAST-MODIFIED:20260323T161308Z
UID:4569-1779091200-1779113700@oskaloosachristian.net
SUMMARY:Field Day & Service Projects
DESCRIPTION:
URL:https://oskaloosachristian.net/event/field-day-service-projects/
CATEGORIES:School Calendar
END:VEVENT
BEGIN:VEVENT
DTSTART;TZID=UTC:20260519T080000
DTEND;TZID=UTC:20260519T120000
DTSTAMP:20260419T103251
CREATED:20250819T210237Z
LAST-MODIFIED:20260323T161518Z
UID:4570-1779177600-1779192000@oskaloosachristian.net
SUMMARY:Last Day (Noon Dismissal - No PM Bus)
DESCRIPTION:
URL:https://oskaloosachristian.net/event/last-day-noon-dismissal/
CATEGORIES:School Calendar
END:VEVENT
BEGIN:VEVENT
DTSTART;TZID=America/Chicago:20260519T081500
DTEND;TZID=America/Chicago:20260519T093000
DTSTAMP:20260419T103251
CREATED:20260413T141237Z
LAST-MODIFIED:20260413T141237Z
UID:6129-1779178500-1779183000@oskaloosachristian.net
SUMMARY:Kindergarten Graduation
DESCRIPTION:
URL:https://oskaloosachristian.net/event/kindergarten-graduation/
CATEGORIES:School Calendar
END:VEVENT
BEGIN:VEVENT
DTSTART;TZID=America/Chicago:20260519T101500
DTEND;TZID=America/Chicago:20260519T113000
DTSTAMP:20260419T103251
CREATED:20260413T141307Z
LAST-MODIFIED:20260413T141307Z
UID:6133-1779185700-1779190200@oskaloosachristian.net
SUMMARY:End of the Year Chapel
DESCRIPTION:
URL:https://oskaloosachristian.net/event/end-of-the-year-chapel/
CATEGORIES:School Calendar
END:VEVENT
BEGIN:VEVENT
DTSTART;VALUE=DATE:20260520
DTEND;VALUE=DATE:20260521
DTSTAMP:20260419T103251
CREATED:20250819T210056Z
LAST-MODIFIED:20260323T161426Z
UID:3818-1779235200-1779321599@oskaloosachristian.net
SUMMARY:Teacher Work Day (No School)
DESCRIPTION:
URL:https://oskaloosachristian.net/event/215-dismissal-35/
CATEGORIES:School Calendar
END:VEVENT
BEGIN:VEVENT
DTSTART;TZID=America/Chicago:20260630T190000
DTEND;TZID=America/Chicago:20260630T203000
DTSTAMP:20260419T103251
CREATED:20260413T141513Z
LAST-MODIFIED:20260413T141513Z
UID:6137-1782846000-1782851400@oskaloosachristian.net
SUMMARY:Society Meeting
DESCRIPTION:
URL:https://oskaloosachristian.net/event/society-meeting/
CATEGORIES:School Calendar
END:VEVENT
END:VCALENDAR