BEGIN:VCALENDAR
VERSION:2.0
PRODID:-//Oskaloosa Christian School - ECPv6.15.20//NONSGML v1.0//EN
CALSCALE:GREGORIAN
METHOD:PUBLISH
X-WR-CALNAME:Oskaloosa Christian School
X-ORIGINAL-URL:https://oskaloosachristian.net
X-WR-CALDESC:Events for Oskaloosa Christian School
REFRESH-INTERVAL;VALUE=DURATION:PT1H
X-Robots-Tag:noindex
X-PUBLISHED-TTL:PT1H
BEGIN:VTIMEZONE
TZID:America/Chicago
BEGIN:DAYLIGHT
TZOFFSETFROM:-0600
TZOFFSETTO:-0500
TZNAME:CDT
DTSTART:20240310T080000
END:DAYLIGHT
BEGIN:STANDARD
TZOFFSETFROM:-0500
TZOFFSETTO:-0600
TZNAME:CST
DTSTART:20241103T070000
END:STANDARD
BEGIN:DAYLIGHT
TZOFFSETFROM:-0600
TZOFFSETTO:-0500
TZNAME:CDT
DTSTART:20250309T080000
END:DAYLIGHT
BEGIN:STANDARD
TZOFFSETFROM:-0500
TZOFFSETTO:-0600
TZNAME:CST
DTSTART:20251102T070000
END:STANDARD
BEGIN:DAYLIGHT
TZOFFSETFROM:-0600
TZOFFSETTO:-0500
TZNAME:CDT
DTSTART:20260308T080000
END:DAYLIGHT
BEGIN:STANDARD
TZOFFSETFROM:-0500
TZOFFSETTO:-0600
TZNAME:CST
DTSTART:20261101T070000
END:STANDARD
BEGIN:DAYLIGHT
TZOFFSETFROM:-0600
TZOFFSETTO:-0500
TZNAME:CDT
DTSTART:20270314T080000
END:DAYLIGHT
BEGIN:STANDARD
TZOFFSETFROM:-0500
TZOFFSETTO:-0600
TZNAME:CST
DTSTART:20271107T070000
END:STANDARD
END:VTIMEZONE
BEGIN:VTIMEZONE
TZID:America/Chicago
BEGIN:DAYLIGHT
TZOFFSETFROM:-0600
TZOFFSETTO:-0500
TZNAME:CDT
DTSTART:20240310T080000
END:DAYLIGHT
BEGIN:STANDARD
TZOFFSETFROM:-0500
TZOFFSETTO:-0600
TZNAME:CST
DTSTART:20241103T070000
END:STANDARD
BEGIN:DAYLIGHT
TZOFFSETFROM:-0600
TZOFFSETTO:-0500
TZNAME:CDT
DTSTART:20250309T080000
END:DAYLIGHT
BEGIN:STANDARD
TZOFFSETFROM:-0500
TZOFFSETTO:-0600
TZNAME:CST
DTSTART:20251102T070000
END:STANDARD
BEGIN:DAYLIGHT
TZOFFSETFROM:-0600
TZOFFSETTO:-0500
TZNAME:CDT
DTSTART:20260308T080000
END:DAYLIGHT
BEGIN:STANDARD
TZOFFSETFROM:-0500
TZOFFSETTO:-0600
TZNAME:CST
DTSTART:20261101T070000
END:STANDARD
BEGIN:DAYLIGHT
TZOFFSETFROM:-0600
TZOFFSETTO:-0500
TZNAME:CDT
DTSTART:20270314T080000
END:DAYLIGHT
BEGIN:STANDARD
TZOFFSETFROM:-0500
TZOFFSETTO:-0600
TZNAME:CST
DTSTART:20271107T070000
END:STANDARD
END:VTIMEZONE
BEGIN:VTIMEZONE
TZID:UTC
BEGIN:STANDARD
TZOFFSETFROM:+0000
TZOFFSETTO:+0000
TZNAME:UTC
DTSTART:20240101T000000
END:STANDARD
END:VTIMEZONE
BEGIN:VEVENT
DTSTART;TZID=America/Chicago:20251215T080000
DTEND;TZID=America/Chicago:20251215T170000
DTSTAMP:20260419T202048
CREATED:20251203T205047Z
LAST-MODIFIED:20251203T205047Z
UID:5308-1765785600-1765818000@oskaloosachristian.net
SUMMARY:Mexican Straw Hats\, Corn\, Peaches\, WG Dinner Roll\, Milk
DESCRIPTION:
URL:https://oskaloosachristian.net/event/mexican-straw-hats-corn-peaches-wg-dinner-roll-milk/
CATEGORIES:Lunch Calendar
END:VEVENT
BEGIN:VEVENT
DTSTART;TZID=America/Chicago:20251215T163000
DTEND;TZID=America/Chicago:20251215T180000
DTSTAMP:20260419T202048
CREATED:20250930T182706Z
LAST-MODIFIED:20251212T161135Z
UID:4605-1765816200-1765821600@oskaloosachristian.net
SUMMARY:Girls Basketball @ Oskaloosa
DESCRIPTION:
URL:https://oskaloosachristian.net/event/girls-basketball-oskaloosa/
CATEGORIES:Athletic Calendar
END:VEVENT
BEGIN:VEVENT
DTSTART;TZID=America/Chicago:20251216T080000
DTEND;TZID=America/Chicago:20251216T170000
DTSTAMP:20260419T202048
CREATED:20251203T205249Z
LAST-MODIFIED:20251203T205249Z
UID:5312-1765872000-1765904400@oskaloosachristian.net
SUMMARY:Hamburger/Cheeseburger on a WG Bun\, French Fries\, Strawberry Cups\, Pudding\, Milk
DESCRIPTION:
URL:https://oskaloosachristian.net/event/hamburger-cheeseburger-on-a-wg-bun-french-fries-strawberry-cups-pudding-milk/
CATEGORIES:Lunch Calendar
END:VEVENT
BEGIN:VEVENT
DTSTART;TZID=UTC:20251217T080000
DTEND;TZID=UTC:20251217T141500
DTSTAMP:20260419T202048
CREATED:20250819T202011Z
LAST-MODIFIED:20250819T202011Z
UID:3785-1765958400-1765980900@oskaloosachristian.net
SUMMARY:2:15 Dismissal
DESCRIPTION:
URL:https://oskaloosachristian.net/event/215-dismissal-16/
CATEGORIES:School Calendar
END:VEVENT
BEGIN:VEVENT
DTSTART;TZID=America/Chicago:20251217T080000
DTEND;TZID=America/Chicago:20251217T170000
DTSTAMP:20260419T202048
CREATED:20251203T205717Z
LAST-MODIFIED:20251203T205717Z
UID:5316-1765958400-1765990800@oskaloosachristian.net
SUMMARY:Country Fried Steak\, Mashed Potatoes\, Mixed Fruit\, WG Dinner Roll\, Milk
DESCRIPTION:
URL:https://oskaloosachristian.net/event/country-fried-steak-mashed-potatoes-mixed-fruit-wg-dinner-roll-milk-8/
CATEGORIES:Lunch Calendar
END:VEVENT
BEGIN:VEVENT
DTSTART;TZID=America/Chicago:20251218T080000
DTEND;TZID=America/Chicago:20251218T170000
DTSTAMP:20260419T202048
CREATED:20251203T205836Z
LAST-MODIFIED:20251203T215331Z
UID:5320-1766044800-1766077200@oskaloosachristian.net
SUMMARY:Tator Tot Casserole\, Carrots\, Mandarin Oranges\, Cinnamon Squares\, Milk
DESCRIPTION:
URL:https://oskaloosachristian.net/event/corn-dog-nachos-w-cheese-peaches-broccoli-wg-dinner-roll-milk/
CATEGORIES:Lunch Calendar
END:VEVENT
BEGIN:VEVENT
DTSTART;TZID=America/Chicago:20251218T163000
DTEND;TZID=America/Chicago:20251218T173000
DTSTAMP:20260419T202048
CREATED:20250930T182755Z
LAST-MODIFIED:20251117T140507Z
UID:4606-1766075400-1766079000@oskaloosachristian.net
SUMMARY:Girls Basketball @ Twin Cedars
DESCRIPTION:
URL:https://oskaloosachristian.net/event/girls-basketball-twin-cedars/
CATEGORIES:Athletic Calendar
END:VEVENT
BEGIN:VEVENT
DTSTART;TZID=America/Chicago:20251219T080000
DTEND;TZID=America/Chicago:20251219T170000
DTSTAMP:20260419T202048
CREATED:20251203T205915Z
LAST-MODIFIED:20251203T205915Z
UID:5324-1766131200-1766163600@oskaloosachristian.net
SUMMARY:Mozzarella Cheese Sticks w/ marinara Sauce\, Green Beans\, Pears\, Yogurt\, Milk
DESCRIPTION:
URL:https://oskaloosachristian.net/event/mozzarella-cheese-sticks-w-marinara-sauce-green-beans-pears-yogurt-milk-4/
CATEGORIES:Lunch Calendar
END:VEVENT
BEGIN:VEVENT
DTSTART;VALUE=DATE:20251222
DTEND;VALUE=DATE:20251223
DTSTAMP:20260419T202048
CREATED:20251201T155805Z
LAST-MODIFIED:20251201T155805Z
UID:5268-1766361600-1766447999@oskaloosachristian.net
SUMMARY:No AM/PM Bus
DESCRIPTION:
URL:https://oskaloosachristian.net/event/no-am-pm-bus/
CATEGORIES:School Calendar
END:VEVENT
BEGIN:VEVENT
DTSTART;TZID=America/Chicago:20251222T080000
DTEND;TZID=America/Chicago:20251222T170000
DTSTAMP:20260419T202048
CREATED:20251203T205954Z
LAST-MODIFIED:20251203T205954Z
UID:5328-1766390400-1766422800@oskaloosachristian.net
SUMMARY:Tomato Soup\, Grilled Cheese\, Apple Slices\, Bar\, Milk
DESCRIPTION:
URL:https://oskaloosachristian.net/event/tomato-soup-grilled-cheese-apple-slices-bar-milk-2/
CATEGORIES:Lunch Calendar
END:VEVENT
BEGIN:VEVENT
DTSTART;VALUE=DATE:20251223
DTEND;VALUE=DATE:20251224
DTSTAMP:20260419T202048
CREATED:20251201T155941Z
LAST-MODIFIED:20251201T155941Z
UID:5273-1766448000-1766534399@oskaloosachristian.net
SUMMARY:No AM/PM Bus
DESCRIPTION:
URL:https://oskaloosachristian.net/event/no-am-pm-bus-2/
CATEGORIES:School Calendar
END:VEVENT
BEGIN:VEVENT
DTSTART;TZID=UTC:20251223T080000
DTEND;TZID=UTC:20251223T120000
DTSTAMP:20260419T202048
CREATED:20250819T202043Z
LAST-MODIFIED:20251201T155924Z
UID:3786-1766476800-1766491200@oskaloosachristian.net
SUMMARY:Noon Dismissal
DESCRIPTION:
URL:https://oskaloosachristian.net/event/noon-dismissal-3/
CATEGORIES:School Calendar
END:VEVENT
BEGIN:VEVENT
DTSTART;TZID=America/Chicago:20251223T080000
DTEND;TZID=America/Chicago:20251223T170000
DTSTAMP:20260419T202048
CREATED:20251203T214020Z
LAST-MODIFIED:20251203T214020Z
UID:5335-1766476800-1766509200@oskaloosachristian.net
SUMMARY:No Lunch - Noon Dismissal
DESCRIPTION:
URL:https://oskaloosachristian.net/event/no-lunch-noon-dismissal-3/
CATEGORIES:Lunch Calendar
END:VEVENT
BEGIN:VEVENT
DTSTART;TZID=America/Chicago:20251224T080000
DTEND;TZID=America/Chicago:20251224T170000
DTSTAMP:20260419T202048
CREATED:20251203T215919Z
LAST-MODIFIED:20251203T215919Z
UID:5376-1766563200-1766595600@oskaloosachristian.net
SUMMARY:Christmas Vacation - No Lunch
DESCRIPTION:
URL:https://oskaloosachristian.net/event/christmas-vacation-no-lunch-2/
CATEGORIES:Lunch Calendar
END:VEVENT
BEGIN:VEVENT
DTSTART;VALUE=DATE:20251225
DTEND;VALUE=DATE:20251226
DTSTAMP:20260419T202048
CREATED:20250819T202128Z
LAST-MODIFIED:20251203T215824Z
UID:3787-1766620800-1766707199@oskaloosachristian.net
SUMMARY:Christmas Vacation - No Lunch
DESCRIPTION:
URL:https://oskaloosachristian.net/event/christmas-break/
CATEGORIES:Lunch Calendar
END:VEVENT
BEGIN:VEVENT
DTSTART;TZID=America/Chicago:20251225T080000
DTEND;TZID=America/Chicago:20251225T170000
DTSTAMP:20260419T202048
CREATED:20251203T215529Z
LAST-MODIFIED:20251203T215541Z
UID:5366-1766649600-1766682000@oskaloosachristian.net
SUMMARY:Christmas Vacation-No Lunch
DESCRIPTION:
URL:https://oskaloosachristian.net/event/christmas-vacation-2/
CATEGORIES:Lunch Calendar
END:VEVENT
BEGIN:VEVENT
DTSTART;TZID=America/Chicago:20251226T080000
DTEND;TZID=America/Chicago:20251226T170000
DTSTAMP:20260419T202048
CREATED:20251203T215610Z
LAST-MODIFIED:20251203T215610Z
UID:5371-1766736000-1766768400@oskaloosachristian.net
SUMMARY:Christmas Vacation - No Lunch
DESCRIPTION:
URL:https://oskaloosachristian.net/event/christmas-vacation-no-lunch/
CATEGORIES:Lunch Calendar
END:VEVENT
BEGIN:VEVENT
DTSTART;TZID=America/Chicago:20251229T080000
DTEND;TZID=America/Chicago:20251229T170000
DTSTAMP:20260419T202048
CREATED:20251203T215952Z
LAST-MODIFIED:20251203T215952Z
UID:5380-1766995200-1767027600@oskaloosachristian.net
SUMMARY:Christmas Vacation - No Lunch
DESCRIPTION:
URL:https://oskaloosachristian.net/event/christmas-vacation-no-lunch-3/
CATEGORIES:Lunch Calendar
END:VEVENT
BEGIN:VEVENT
DTSTART;TZID=America/Chicago:20251230T080000
DTEND;TZID=America/Chicago:20251230T170000
DTSTAMP:20260419T202048
CREATED:20251203T220016Z
LAST-MODIFIED:20251203T220016Z
UID:5384-1767081600-1767114000@oskaloosachristian.net
SUMMARY:Christmas Vacation - No Lunch
DESCRIPTION:
URL:https://oskaloosachristian.net/event/christmas-vacation-no-lunch-4/
CATEGORIES:Lunch Calendar
END:VEVENT
BEGIN:VEVENT
DTSTART;TZID=America/Chicago:20251231T080000
DTEND;TZID=America/Chicago:20251231T170000
DTSTAMP:20260419T202048
CREATED:20251203T220103Z
LAST-MODIFIED:20251203T220103Z
UID:5392-1767168000-1767200400@oskaloosachristian.net
SUMMARY:Christmas Vacation - No Lunch
DESCRIPTION:
URL:https://oskaloosachristian.net/event/christmas-vacation-no-lunch-6/
CATEGORIES:Lunch Calendar
END:VEVENT
BEGIN:VEVENT
DTSTART;TZID=America/Chicago:20260101T080000
DTEND;TZID=America/Chicago:20260101T170000
DTSTAMP:20260419T202048
CREATED:20251203T220135Z
LAST-MODIFIED:20251203T220321Z
UID:5396-1767254400-1767286800@oskaloosachristian.net
SUMMARY:Christmas Vacation - No Lunch - Happy New Year
DESCRIPTION:
URL:https://oskaloosachristian.net/event/christmas-vacation-no-lunch-7/
CATEGORIES:Lunch Calendar
END:VEVENT
BEGIN:VEVENT
DTSTART;TZID=America/Chicago:20260102T080000
DTEND;TZID=America/Chicago:20260102T170000
DTSTAMP:20260419T202048
CREATED:20251203T214048Z
LAST-MODIFIED:20251203T220242Z
UID:5339-1767340800-1767373200@oskaloosachristian.net
SUMMARY:Christmas Vacation-No Lunch
DESCRIPTION:
URL:https://oskaloosachristian.net/event/christmas-vacation/
CATEGORIES:Lunch Calendar
END:VEVENT
BEGIN:VEVENT
DTSTART;TZID=UTC:20260105T080000
DTEND;TZID=UTC:20260105T170000
DTSTAMP:20260419T202048
CREATED:20250819T202151Z
LAST-MODIFIED:20250819T202151Z
UID:4552-1767600000-1767632400@oskaloosachristian.net
SUMMARY:Classes Resume
DESCRIPTION:
URL:https://oskaloosachristian.net/event/classes-resume/
CATEGORIES:School Calendar
END:VEVENT
BEGIN:VEVENT
DTSTART;TZID=America/Chicago:20260105T080000
DTEND;TZID=America/Chicago:20260105T170000
DTSTAMP:20260419T202048
CREATED:20251203T214449Z
LAST-MODIFIED:20251203T214449Z
UID:5343-1767600000-1767632400@oskaloosachristian.net
SUMMARY:Corn Dogs\, Nachos w/cheese\, Broccoli\, Peach Cups\, WG Dinner Roll\, Milk
DESCRIPTION:
URL:https://oskaloosachristian.net/event/corn-dogs-nachos-w-cheese-broccoli-peach-cups-wg-dinner-roll-milk/
CATEGORIES:Lunch Calendar
END:VEVENT
BEGIN:VEVENT
DTSTART;TZID=America/Chicago:20260106T080000
DTEND;TZID=America/Chicago:20260106T170000
DTSTAMP:20260419T202048
CREATED:20251203T214634Z
LAST-MODIFIED:20251203T214634Z
UID:5347-1767686400-1767718800@oskaloosachristian.net
SUMMARY:Sloppy Joe on WG Bun\, French Fries\, Applesauce\, Bar\, Milk
DESCRIPTION:
URL:https://oskaloosachristian.net/event/sloppy-joe-on-wg-bun-french-fries-applesauce-bar-milk/
CATEGORIES:Lunch Calendar
END:VEVENT
BEGIN:VEVENT
DTSTART;TZID=UTC:20260107T080000
DTEND;TZID=UTC:20260107T141500
DTSTAMP:20260419T202048
CREATED:20250819T202217Z
LAST-MODIFIED:20250819T202217Z
UID:4553-1767772800-1767795300@oskaloosachristian.net
SUMMARY:2:15 Dismissal
DESCRIPTION:
URL:https://oskaloosachristian.net/event/215-dismissal-17/
CATEGORIES:School Calendar
END:VEVENT
BEGIN:VEVENT
DTSTART;TZID=America/Chicago:20260107T080000
DTEND;TZID=America/Chicago:20260107T170000
DTSTAMP:20260419T202048
CREATED:20251203T214820Z
LAST-MODIFIED:20251203T214820Z
UID:5351-1767772800-1767805200@oskaloosachristian.net
SUMMARY:Meatloaf\, Mashed Potatoes\, Mixed Fruit\, WG Dinner Roll\, Milk
DESCRIPTION:
URL:https://oskaloosachristian.net/event/meatloaf-mashed-potatoes-mixed-fruit-wg-dinner-roll-milk-4/
CATEGORIES:Lunch Calendar
END:VEVENT
BEGIN:VEVENT
DTSTART;TZID=America/Chicago:20260108T080000
DTEND;TZID=America/Chicago:20260108T170000
DTSTAMP:20260419T202048
CREATED:20251203T214913Z
LAST-MODIFIED:20251203T214913Z
UID:5355-1767859200-1767891600@oskaloosachristian.net
SUMMARY:Spaghetti w/meat sauce\, Carrots\, Peaches\, WG French Bread\, Milk
DESCRIPTION:
URL:https://oskaloosachristian.net/event/spaghetti-w-meat-sauce-carrots-peaches-wg-french-bread-milk-2/
CATEGORIES:Lunch Calendar
END:VEVENT
BEGIN:VEVENT
DTSTART;TZID=America/Chicago:20260108T163000
DTEND;TZID=America/Chicago:20260108T180000
DTSTAMP:20260419T202048
CREATED:20251016T163314Z
LAST-MODIFIED:20251016T163314Z
UID:4632-1767889800-1767895200@oskaloosachristian.net
SUMMARY:Boys Basketball @ ACA
DESCRIPTION:
URL:https://oskaloosachristian.net/event/boys-basketball-aca/
CATEGORIES:Athletic Calendar
END:VEVENT
BEGIN:VEVENT
DTSTART;TZID=America/Chicago:20260109T080000
DTEND;TZID=America/Chicago:20260109T170000
DTSTAMP:20260419T202048
CREATED:20251203T215003Z
LAST-MODIFIED:20251203T215003Z
UID:5359-1767945600-1767978000@oskaloosachristian.net
SUMMARY:Bosco Sticks w/marinara sauce\, Green Beans\, Pears\, Yogurt\, Milk
DESCRIPTION:
URL:https://oskaloosachristian.net/event/bosco-sticks-w-marinara-sauce-green-beans-pears-yogurt-milk-7/
CATEGORIES:Lunch Calendar
END:VEVENT
END:VCALENDAR