BEGIN:VCALENDAR
VERSION:2.0
PRODID:-//Oskaloosa Christian School - ECPv6.15.20//NONSGML v1.0//EN
CALSCALE:GREGORIAN
METHOD:PUBLISH
X-WR-CALNAME:Oskaloosa Christian School
X-ORIGINAL-URL:https://oskaloosachristian.net
X-WR-CALDESC:Events for Oskaloosa Christian School
REFRESH-INTERVAL;VALUE=DURATION:PT1H
X-Robots-Tag:noindex
X-PUBLISHED-TTL:PT1H
BEGIN:VTIMEZONE
TZID:UTC
BEGIN:STANDARD
TZOFFSETFROM:+0000
TZOFFSETTO:+0000
TZNAME:UTC
DTSTART:20230101T000000
END:STANDARD
END:VTIMEZONE
BEGIN:VEVENT
DTSTART;VALUE=DATE:20241014
DTEND;VALUE=DATE:20241015
DTSTAMP:20260420T010110
CREATED:20241008T223928Z
LAST-MODIFIED:20241008T223928Z
UID:2302-1728864000-1728950399@oskaloosachristian.net
SUMMARY:Counselor
DESCRIPTION:Our school counselor will be here and teaching in our MS grades.
URL:https://oskaloosachristian.net/event/counselor-3/
CATEGORIES:School Calendar
END:VEVENT
BEGIN:VEVENT
DTSTART;TZID=UTC:20241011T080000
DTEND;TZID=UTC:20241011T170000
DTSTAMP:20260420T010110
CREATED:20240926T035248Z
LAST-MODIFIED:20240926T035248Z
UID:2144-1728633600-1728666000@oskaloosachristian.net
SUMMARY:Mozzarella Cheese Sticks\, Baked Beans\, Mixed Fruit\, Yogurt\, Milk
DESCRIPTION:
URL:https://oskaloosachristian.net/event/mozzarella-cheese-sticks-baked-beans-mixed-fruit-yogurt-milk/
CATEGORIES:Lunch Calendar
END:VEVENT
BEGIN:VEVENT
DTSTART;VALUE=DATE:20241011
DTEND;VALUE=DATE:20241012
DTSTAMP:20260420T010110
CREATED:20241008T223837Z
LAST-MODIFIED:20241008T223837Z
UID:2301-1728604800-1728691199@oskaloosachristian.net
SUMMARY:Praise Chapel 8:10 AM
DESCRIPTION:
URL:https://oskaloosachristian.net/event/praise-chapel-810-am/
CATEGORIES:School Calendar
END:VEVENT
BEGIN:VEVENT
DTSTART;TZID=UTC:20241010T080000
DTEND;TZID=UTC:20241010T170000
DTSTAMP:20260420T010110
CREATED:20240926T035145Z
LAST-MODIFIED:20240926T035145Z
UID:2142-1728547200-1728579600@oskaloosachristian.net
SUMMARY:Hot dog on a WG Bun\, Carrots\, Applesauce\, Chips\, Ice Cream Bar\, Milk
DESCRIPTION:
URL:https://oskaloosachristian.net/event/hot-dog-on-a-wg-bun-carrots-applesauce-chips-ice-cream-bar-milk/
CATEGORIES:Lunch Calendar
END:VEVENT
BEGIN:VEVENT
DTSTART;VALUE=DATE:20241010
DTEND;VALUE=DATE:20241011
DTSTAMP:20260420T010110
CREATED:20241008T223812Z
LAST-MODIFIED:20241008T223812Z
UID:2300-1728518400-1728604799@oskaloosachristian.net
SUMMARY:Clover Kids 3:20 PM
DESCRIPTION:
URL:https://oskaloosachristian.net/event/clover-kids-320-pm/
CATEGORIES:School Calendar
END:VEVENT
BEGIN:VEVENT
DTSTART;VALUE=DATE:20241010
DTEND;VALUE=DATE:20241011
DTSTAMP:20260420T010110
CREATED:20241008T223743Z
LAST-MODIFIED:20241008T223743Z
UID:2299-1728518400-1728604799@oskaloosachristian.net
SUMMARY:Believe Packets Due
DESCRIPTION:
URL:https://oskaloosachristian.net/event/believe-packets-due/
CATEGORIES:School Calendar
END:VEVENT
BEGIN:VEVENT
DTSTART;TZID=UTC:20241009T080000
DTEND;TZID=UTC:20241009T170000
DTSTAMP:20260420T010110
CREATED:20240926T180325Z
LAST-MODIFIED:20240926T180325Z
UID:4382-1728460800-1728493200@oskaloosachristian.net
SUMMARY:Chicken Nuggets\, Mashed Potatoes\, Pear Slices\, WG Roll\, Milk
DESCRIPTION:
URL:https://oskaloosachristian.net/event/chicken-nuggets-mashed-potatoes-pear-slices-wg-roll-milk/
CATEGORIES:Lunch Calendar
END:VEVENT
BEGIN:VEVENT
DTSTART;VALUE=DATE:20241009
DTEND;VALUE=DATE:20241011
DTSTAMP:20260420T010111
CREATED:20241008T223507Z
LAST-MODIFIED:20241008T223507Z
UID:2295-1728432000-1728604799@oskaloosachristian.net
SUMMARY:Orange Days
DESCRIPTION:Put on your best orange!
URL:https://oskaloosachristian.net/event/orange-days/
CATEGORIES:School Calendar
END:VEVENT
BEGIN:VEVENT
DTSTART;VALUE=DATE:20241009
DTEND;VALUE=DATE:20241010
DTSTAMP:20260420T010111
CREATED:20241008T223653Z
LAST-MODIFIED:20241008T223653Z
UID:2298-1728432000-1728518399@oskaloosachristian.net
SUMMARY:2:15 Dismissal w/Buses
DESCRIPTION:
URL:https://oskaloosachristian.net/event/215-pm-dismissal/
CATEGORIES:School Calendar
END:VEVENT
BEGIN:VEVENT
DTSTART;VALUE=DATE:20241009
DTEND;VALUE=DATE:20241010
DTSTAMP:20260420T010111
CREATED:20241008T223631Z
LAST-MODIFIED:20241008T223631Z
UID:2297-1728432000-1728518399@oskaloosachristian.net
SUMMARY:Chapel Devotions
DESCRIPTION:
URL:https://oskaloosachristian.net/event/chapel-devotions/
CATEGORIES:School Calendar
END:VEVENT
BEGIN:VEVENT
DTSTART;TZID=UTC:20241008T080000
DTEND;TZID=UTC:20241008T170000
DTSTAMP:20260420T010111
CREATED:20240926T180238Z
LAST-MODIFIED:20240926T180238Z
UID:2185-1728374400-1728406800@oskaloosachristian.net
SUMMARY:Mr. Rib\, Green Beans\, Cinnamon Apples\, Bar\, Milk
DESCRIPTION:
URL:https://oskaloosachristian.net/event/mr-rib-green-beans-cinnamon-apples-bar-milk/
CATEGORIES:Lunch Calendar
END:VEVENT
BEGIN:VEVENT
DTSTART;VALUE=DATE:20241008
DTEND;VALUE=DATE:20241009
DTSTAMP:20260420T010111
CREATED:20241008T223606Z
LAST-MODIFIED:20241008T223606Z
UID:2296-1728345600-1728431999@oskaloosachristian.net
SUMMARY:Veterans' Names Due
DESCRIPTION:Please provide the office with names and address of Veterans you know!
URL:https://oskaloosachristian.net/event/veterans-names-due/
CATEGORIES:School Calendar
END:VEVENT
BEGIN:VEVENT
DTSTART;VALUE=DATE:20241008
DTEND;VALUE=DATE:20241009
DTSTAMP:20260420T010111
CREATED:20241008T223422Z
LAST-MODIFIED:20241008T223422Z
UID:2294-1728345600-1728431999@oskaloosachristian.net
SUMMARY:MS Football Game
DESCRIPTION:PC Middle School Football home game @ PCHS vs Grandview starting at 4:15 PM
URL:https://oskaloosachristian.net/event/ms-football-game-3/
CATEGORIES:School Calendar
END:VEVENT
BEGIN:VEVENT
DTSTART;VALUE=DATE:20241008
DTEND;VALUE=DATE:20241009
DTSTAMP:20260420T010111
CREATED:20241008T223318Z
LAST-MODIFIED:20241008T223318Z
UID:2293-1728345600-1728431999@oskaloosachristian.net
SUMMARY:Volleyball Game
DESCRIPTION:Oskaloosa vs. Eddyville @4:15 PM
URL:https://oskaloosachristian.net/event/volleyball-game/
CATEGORIES:School Calendar
END:VEVENT
BEGIN:VEVENT
DTSTART;TZID=UTC:20241007T080000
DTEND;TZID=UTC:20241007T170000
DTSTAMP:20260420T010111
CREATED:20240926T180152Z
LAST-MODIFIED:20240926T180152Z
UID:4381-1728288000-1728320400@oskaloosachristian.net
SUMMARY:French Toast\, Lil' Smokies\, Hash Brown Potatoes\, OJ\, Milk
DESCRIPTION:
URL:https://oskaloosachristian.net/event/french-toast-lil-smokies-hash-brown-potatoes-oj-milk/
CATEGORIES:Lunch Calendar
END:VEVENT
BEGIN:VEVENT
DTSTART;VALUE=DATE:20241004
DTEND;VALUE=DATE:20241005
DTSTAMP:20260420T010111
CREATED:20240926T180054Z
LAST-MODIFIED:20240926T180054Z
UID:4380-1728000000-1728086399@oskaloosachristian.net
SUMMARY:No Lunch - No School
DESCRIPTION:
URL:https://oskaloosachristian.net/event/no-lunch/
CATEGORIES:Lunch Calendar
END:VEVENT
BEGIN:VEVENT
DTSTART;VALUE=DATE:20241004
DTEND;VALUE=DATE:20241005
DTSTAMP:20260420T010111
CREATED:20240924T195939Z
LAST-MODIFIED:20240924T195939Z
UID:2116-1728000000-1728086399@oskaloosachristian.net
SUMMARY:No School\, Teacher Inservice
DESCRIPTION:
URL:https://oskaloosachristian.net/event/no-school-teacher-inservice/
CATEGORIES:School Calendar
END:VEVENT
BEGIN:VEVENT
DTSTART;TZID=UTC:20241003T080000
DTEND;TZID=UTC:20241003T170000
DTSTAMP:20260420T010111
CREATED:20240926T180028Z
LAST-MODIFIED:20240926T180028Z
UID:2182-1727942400-1727974800@oskaloosachristian.net
SUMMARY:Mac-N-Cheese\, Ham\, Carrots\, Pineapple\, Cinnamon Square\, Milk
DESCRIPTION:
URL:https://oskaloosachristian.net/event/mac-n-cheese-ham-carrots-pineapple-cinnamon-square-milk/
CATEGORIES:Lunch Calendar
END:VEVENT
BEGIN:VEVENT
DTSTART;TZID=UTC:20241002T080000
DTEND;TZID=UTC:20241002T170000
DTSTAMP:20260420T010111
CREATED:20240926T175929Z
LAST-MODIFIED:20240926T175929Z
UID:2181-1727856000-1727888400@oskaloosachristian.net
SUMMARY:Chicken and Noodles\, Mashed Potatoes\, Mixed Fruit\, WG Roll\, Milk
DESCRIPTION:
URL:https://oskaloosachristian.net/event/beef-noodles-mash-potatoes-mixed-fruit-wg-roll-milk/
CATEGORIES:Lunch Calendar
END:VEVENT
BEGIN:VEVENT
DTSTART;TZID=UTC:20241001T080000
DTEND;TZID=UTC:20241001T170000
DTSTAMP:20260420T010111
CREATED:20240926T034348Z
LAST-MODIFIED:20240926T034348Z
UID:2131-1727769600-1727802000@oskaloosachristian.net
SUMMARY:BBQ Pork on a WG Bun\, Tator Tots\, Applesauce\, Bar\, Milk
DESCRIPTION:
URL:https://oskaloosachristian.net/event/chicken-nuggets-mashed-potatoes-mandarin-oranges-wg-dinner-roll-milk/
CATEGORIES:Lunch Calendar
END:VEVENT
BEGIN:VEVENT
DTSTART;VALUE=DATE:20240930
DTEND;VALUE=DATE:20241001
DTSTAMP:20260420T010111
CREATED:20240910T185240Z
LAST-MODIFIED:20240910T185240Z
UID:2030-1727654400-1727740799@oskaloosachristian.net
SUMMARY:Walking Tacos\, Corn\, Peaches\, WG Dinner Roll\, Milk
DESCRIPTION:
URL:https://oskaloosachristian.net/event/walking-tacos-corn-peaches-wg-dinner-roll-milk/
CATEGORIES:Lunch Calendar
END:VEVENT
BEGIN:VEVENT
DTSTART;VALUE=DATE:20240927
DTEND;VALUE=DATE:20240928
DTSTAMP:20260420T010111
CREATED:20240910T185205Z
LAST-MODIFIED:20240910T185205Z
UID:2029-1727395200-1727481599@oskaloosachristian.net
SUMMARY:Max's Pizza\, Green Beans\, Pears\, WG Breadsticks w/Marinara Sauce\, Milk
DESCRIPTION:
URL:https://oskaloosachristian.net/event/maxs-pizza-green-beans-pears-wg-breadsticks-w-marinara-sauce-milk/
CATEGORIES:Lunch Calendar
END:VEVENT
BEGIN:VEVENT
DTSTART;VALUE=DATE:20240926
DTEND;VALUE=DATE:20240927
DTSTAMP:20260420T010111
CREATED:20240913T020858Z
LAST-MODIFIED:20240913T020858Z
UID:2056-1727308800-1727395199@oskaloosachristian.net
SUMMARY:Middle School Outing
DESCRIPTION:
URL:https://oskaloosachristian.net/event/middle-school-outing/
CATEGORIES:School Calendar
END:VEVENT
BEGIN:VEVENT
DTSTART;VALUE=DATE:20240926
DTEND;VALUE=DATE:20240927
DTSTAMP:20260420T010111
CREATED:20240910T185129Z
LAST-MODIFIED:20240910T185129Z
UID:2028-1727308800-1727395199@oskaloosachristian.net
SUMMARY:Tator Tot Casserole\, Carrots\, Banana\, WG Caramel Roll\, Milk
DESCRIPTION:
URL:https://oskaloosachristian.net/event/tator-tot-casserole-carrots-banana-wg-caramel-roll-milk/
CATEGORIES:Lunch Calendar
END:VEVENT
BEGIN:VEVENT
DTSTART;VALUE=DATE:20240925
DTEND;VALUE=DATE:20240926
DTSTAMP:20260420T010111
CREATED:20240913T020802Z
LAST-MODIFIED:20240913T020802Z
UID:2054-1727222400-1727308799@oskaloosachristian.net
SUMMARY:TK - 8th Devotions
DESCRIPTION:
URL:https://oskaloosachristian.net/event/tk-8th-devotions-3/
CATEGORIES:School Calendar
END:VEVENT
BEGIN:VEVENT
DTSTART;VALUE=DATE:20240925
DTEND;VALUE=DATE:20240926
DTSTAMP:20260420T010111
CREATED:20240910T185043Z
LAST-MODIFIED:20240910T185043Z
UID:2027-1727222400-1727308799@oskaloosachristian.net
SUMMARY:BBQ Meatballs\, Mashed Potatoes\, Mixed Fruit\, WG Dinner Roll\, Milk
DESCRIPTION:
URL:https://oskaloosachristian.net/event/bbq-meatballs-mashed-potatoes-peaches-wg-dinner-roll-milk/
CATEGORIES:Lunch Calendar
END:VEVENT
BEGIN:VEVENT
DTSTART;VALUE=DATE:20240925
DTEND;VALUE=DATE:20240926
DTSTAMP:20260420T010111
CREATED:20240913T020826Z
LAST-MODIFIED:20240913T020826Z
UID:2055-1727222400-1727308799@oskaloosachristian.net
SUMMARY:2:15 Dismissal w/Buses
DESCRIPTION:
URL:https://oskaloosachristian.net/event/215-dismissal-w-buses-4/
CATEGORIES:School Calendar
END:VEVENT
BEGIN:VEVENT
DTSTART;VALUE=DATE:20240924
DTEND;VALUE=DATE:20240925
DTSTAMP:20260420T010111
CREATED:20240913T020644Z
LAST-MODIFIED:20240913T020644Z
UID:2052-1727136000-1727222399@oskaloosachristian.net
SUMMARY:Volleyball Game Home
DESCRIPTION:Volleyball Home Game vs. Pella Christian 4:30 PM
URL:https://oskaloosachristian.net/event/volleyball-game-home-2/
CATEGORIES:School Calendar
END:VEVENT
BEGIN:VEVENT
DTSTART;VALUE=DATE:20240924
DTEND;VALUE=DATE:20240925
DTSTAMP:20260420T010111
CREATED:20240910T184957Z
LAST-MODIFIED:20240910T184957Z
UID:2026-1727136000-1727222399@oskaloosachristian.net
SUMMARY:Hamburger/Cheeseburger on WG Bun\, French Fries\, Blueberries\, Pudding\, Milk
DESCRIPTION:
URL:https://oskaloosachristian.net/event/hamburger-cheeseburger-on-wg-bun-french-fries-blueberries-pudding-milk/
CATEGORIES:Lunch Calendar
END:VEVENT
BEGIN:VEVENT
DTSTART;VALUE=DATE:20240924
DTEND;VALUE=DATE:20240925
DTSTAMP:20260420T010111
CREATED:20240913T020731Z
LAST-MODIFIED:20240913T020731Z
UID:4378-1727136000-1727222399@oskaloosachristian.net
SUMMARY:PC MS Football Game Home
DESCRIPTION:PC MS Football Home Game vs. North Mahaska 4:15 PM
URL:https://oskaloosachristian.net/event/pc-ms-football-game-home/
CATEGORIES:School Calendar
END:VEVENT
END:VCALENDAR