BEGIN:VCALENDAR
VERSION:2.0
PRODID:-//Oskaloosa Christian School - ECPv6.15.20//NONSGML v1.0//EN
CALSCALE:GREGORIAN
METHOD:PUBLISH
X-ORIGINAL-URL:https://oskaloosachristian.net
X-WR-CALDESC:Events for Oskaloosa Christian School
REFRESH-INTERVAL;VALUE=DURATION:PT1H
X-Robots-Tag:noindex
X-PUBLISHED-TTL:PT1H
BEGIN:VTIMEZONE
TZID:America/Chicago
BEGIN:DAYLIGHT
TZOFFSETFROM:-0600
TZOFFSETTO:-0500
TZNAME:CDT
DTSTART:20250309T080000
END:DAYLIGHT
BEGIN:STANDARD
TZOFFSETFROM:-0500
TZOFFSETTO:-0600
TZNAME:CST
DTSTART:20251102T070000
END:STANDARD
BEGIN:DAYLIGHT
TZOFFSETFROM:-0600
TZOFFSETTO:-0500
TZNAME:CDT
DTSTART:20260308T080000
END:DAYLIGHT
BEGIN:STANDARD
TZOFFSETFROM:-0500
TZOFFSETTO:-0600
TZNAME:CST
DTSTART:20261101T070000
END:STANDARD
BEGIN:DAYLIGHT
TZOFFSETFROM:-0600
TZOFFSETTO:-0500
TZNAME:CDT
DTSTART:20270314T080000
END:DAYLIGHT
BEGIN:STANDARD
TZOFFSETFROM:-0500
TZOFFSETTO:-0600
TZNAME:CST
DTSTART:20271107T070000
END:STANDARD
END:VTIMEZONE
BEGIN:VEVENT
DTSTART;TZID=America/Chicago:20260403T080000
DTEND;TZID=America/Chicago:20260403T170000
DTSTAMP:20260422T053330
CREATED:20260227T170716Z
LAST-MODIFIED:20260330T145147Z
UID:5900-1775203200-1775235600@oskaloosachristian.net
SUMMARY:GOOD FRIDAY NO SCHOOL
DESCRIPTION:
URL:https://oskaloosachristian.net/event/maxs-pizza-green-beans-pears-yogurt-milk-2/
CATEGORIES:Lunch Calendar
END:VEVENT
BEGIN:VEVENT
DTSTART;TZID=America/Chicago:20260406T080000
DTEND;TZID=America/Chicago:20260406T170000
DTSTAMP:20260422T053330
CREATED:20260330T200158Z
LAST-MODIFIED:20260330T200158Z
UID:6005-1775462400-1775494800@oskaloosachristian.net
SUMMARY:NO SCHOOL EASTER BREAK
DESCRIPTION:
URL:https://oskaloosachristian.net/event/no-school-easter-break/
CATEGORIES:Lunch Calendar
END:VEVENT
BEGIN:VEVENT
DTSTART;TZID=America/Chicago:20260407T080000
DTEND;TZID=America/Chicago:20260407T170000
DTSTAMP:20260422T053330
CREATED:20260330T200437Z
LAST-MODIFIED:20260330T200437Z
UID:6015-1775548800-1775581200@oskaloosachristian.net
SUMMARY:Mr. Rib on WG Bun\, Broccoli w/Cheese\, Applesauce\, Bar\, Milk
DESCRIPTION:
URL:https://oskaloosachristian.net/event/mr-rib-on-wg-bun-broccoli-w-cheese-applesauce-bar-milk-3/
CATEGORIES:Lunch Calendar
END:VEVENT
BEGIN:VEVENT
DTSTART;TZID=America/Chicago:20260408T080000
DTEND;TZID=America/Chicago:20260408T170000
DTSTAMP:20260422T053330
CREATED:20260330T195816Z
LAST-MODIFIED:20260330T195944Z
UID:5990-1775635200-1775667600@oskaloosachristian.net
SUMMARY:BBQ Meatballs\, Mashed Potatoes\, Mixed Fruit\, WG Dinner Roll\, Milk
DESCRIPTION:
URL:https://oskaloosachristian.net/event/mr-rib-on-wg-bun-broccoli-w-cheese-applesauce-bar-milk-2/
CATEGORIES:Lunch Calendar
END:VEVENT
BEGIN:VEVENT
DTSTART;TZID=America/Chicago:20260409T080000
DTEND;TZID=America/Chicago:20260409T170000
DTSTAMP:20260422T053330
CREATED:20260330T200134Z
LAST-MODIFIED:20260330T200134Z
UID:6000-1775721600-1775754000@oskaloosachristian.net
SUMMARY:Chicken Quesadilla\, Carrots\, Pineapple\, WG Cinnamon Sticks\, Milk
DESCRIPTION:
URL:https://oskaloosachristian.net/event/chicken-quesadilla-carrots-pineapple-wg-cinnamon-sticks-milk/
CATEGORIES:Lunch Calendar
END:VEVENT
BEGIN:VEVENT
DTSTART;TZID=America/Chicago:20260410T080000
DTEND;TZID=America/Chicago:20260410T170000
DTSTAMP:20260422T053330
CREATED:20260330T200248Z
LAST-MODIFIED:20260330T200330Z
UID:6010-1775808000-1775840400@oskaloosachristian.net
SUMMARY:Bosco Sticks\, Green Beans\, Pears\, Yogurt\, Milk
DESCRIPTION:
URL:https://oskaloosachristian.net/event/bosco-sticks-green-beans-pears-yogurt-milk-5/
CATEGORIES:Lunch Calendar
END:VEVENT
BEGIN:VEVENT
DTSTART;TZID=America/Chicago:20260413T080000
DTEND;TZID=America/Chicago:20260413T170000
DTSTAMP:20260422T053330
CREATED:20260330T200851Z
LAST-MODIFIED:20260330T200851Z
UID:6027-1776067200-1776099600@oskaloosachristian.net
SUMMARY:Pancakes\, Lil' Smokies\, Hashbrown Potatoes\, Blueberries\, Milk
DESCRIPTION:
URL:https://oskaloosachristian.net/event/pancakes-lil-smokies-hashbrown-potatoes-blueberries-milk-3/
CATEGORIES:Lunch Calendar
END:VEVENT
BEGIN:VEVENT
DTSTART;TZID=America/Chicago:20260414T080000
DTEND;TZID=America/Chicago:20260414T170000
DTSTAMP:20260422T053330
CREATED:20260330T200720Z
LAST-MODIFIED:20260410T155440Z
UID:6023-1776153600-1776186000@oskaloosachristian.net
SUMMARY:Maidrite on WG Bun\, French Fries\, Peach Cups\, Bar\, Milk
DESCRIPTION:
URL:https://oskaloosachristian.net/event/maidrite-on-wg-bun-french-fries-peaches-bar-milk/
CATEGORIES:Lunch Calendar
END:VEVENT
BEGIN:VEVENT
DTSTART;TZID=America/Chicago:20260415T080000
DTEND;TZID=America/Chicago:20260415T170000
DTSTAMP:20260422T053330
CREATED:20260330T200948Z
LAST-MODIFIED:20260330T200948Z
UID:6031-1776240000-1776272400@oskaloosachristian.net
SUMMARY:Chicken Nuggets\, Mashed Potatoes\, Mixed Fruit\, WG Dinner Roll\, Milk
DESCRIPTION:
URL:https://oskaloosachristian.net/event/chicken-nuggets-mashed-potatoes-mixed-fruit-wg-dinner-roll-milk-23/
CATEGORIES:Lunch Calendar
END:VEVENT
BEGIN:VEVENT
DTSTART;TZID=America/Chicago:20260416T080000
DTEND;TZID=America/Chicago:20260416T170000
DTSTAMP:20260422T053330
CREATED:20260330T201054Z
LAST-MODIFIED:20260330T201054Z
UID:6035-1776326400-1776358800@oskaloosachristian.net
SUMMARY:Lasagne\, Carrots\, Strawberry Cups\, WG French Bread\, Milk
DESCRIPTION:
URL:https://oskaloosachristian.net/event/lasagne-carrots-strawberry-cups-wg-french-bread-milk/
CATEGORIES:Lunch Calendar
END:VEVENT
BEGIN:VEVENT
DTSTART;TZID=America/Chicago:20260417T080000
DTEND;TZID=America/Chicago:20260417T170000
DTSTAMP:20260422T053330
CREATED:20260330T201222Z
LAST-MODIFIED:20260330T201222Z
UID:6040-1776412800-1776445200@oskaloosachristian.net
SUMMARY:Max's Pizza\, Green Beans\, Pears\, Yogurt\, Milk
DESCRIPTION:
URL:https://oskaloosachristian.net/event/maxs-pizza-green-beans-pears-yogurt-milk-3/
CATEGORIES:Lunch Calendar
END:VEVENT
BEGIN:VEVENT
DTSTART;TZID=America/Chicago:20260420T080000
DTEND;TZID=America/Chicago:20260420T170000
DTSTAMP:20260422T053330
CREATED:20260330T201422Z
LAST-MODIFIED:20260330T201422Z
UID:6044-1776672000-1776704400@oskaloosachristian.net
SUMMARY:Hot Dog on WG Bun\, Carrots\, Apple Slices\, Chips\, Ice Cream Bar\, Milk
DESCRIPTION:
URL:https://oskaloosachristian.net/event/hot-dog-on-wg-bun-carrots-apple-slices-chips-ice-cream-bar-milk/
CATEGORIES:Lunch Calendar
END:VEVENT
BEGIN:VEVENT
DTSTART;TZID=America/Chicago:20260421T080000
DTEND;TZID=America/Chicago:20260421T170000
DTSTAMP:20260422T053330
CREATED:20260330T201523Z
LAST-MODIFIED:20260330T201523Z
UID:6048-1776758400-1776790800@oskaloosachristian.net
SUMMARY:Hamburger/Cheeseburger\, French Fries\, Peaches\, Pudding\, Milk
DESCRIPTION:
URL:https://oskaloosachristian.net/event/hamburger-cheeseburger-french-fries-peaches-pudding-milk-2/
CATEGORIES:Lunch Calendar
END:VEVENT
BEGIN:VEVENT
DTSTART;TZID=America/Chicago:20260422T080000
DTEND;TZID=America/Chicago:20260422T170000
DTSTAMP:20260422T053330
CREATED:20260330T201627Z
LAST-MODIFIED:20260330T201627Z
UID:6052-1776844800-1776877200@oskaloosachristian.net
SUMMARY:Creamed Turkey over Mashed Potatoes\, Mixed Fruit\, WG Dinner Roll\, Milk
DESCRIPTION:
URL:https://oskaloosachristian.net/event/creamed-turkey-over-mashed-potatoes-mixed-fruit-wg-dinner-roll-milk-4/
CATEGORIES:Lunch Calendar
END:VEVENT
BEGIN:VEVENT
DTSTART;TZID=America/Chicago:20260423T080000
DTEND;TZID=America/Chicago:20260423T170000
DTSTAMP:20260422T053330
CREATED:20260330T202003Z
LAST-MODIFIED:20260417T155943Z
UID:6064-1776931200-1776963600@oskaloosachristian.net
SUMMARY:Mac-n-Cheese\, Ham\, Green Beans\, Pears\, WG Cinnamon Squares\, Milk
DESCRIPTION:
URL:https://oskaloosachristian.net/event/mac-n-cheese-ham-carrots-wg-cinnamon-squares-milk/
CATEGORIES:Lunch Calendar
END:VEVENT
BEGIN:VEVENT
DTSTART;TZID=America/Chicago:20260424T080000
DTEND;TZID=America/Chicago:20260424T170000
DTSTAMP:20260422T053330
CREATED:20260330T202113Z
LAST-MODIFIED:20260330T202113Z
UID:6068-1777017600-1777050000@oskaloosachristian.net
SUMMARY:GRANDPARENTS DAY! NOON DISMISSAL NO LUNCH
DESCRIPTION:
URL:https://oskaloosachristian.net/event/grandparents-day-noon-dismissal-no-lunch-2/
CATEGORIES:Lunch Calendar
END:VEVENT
BEGIN:VEVENT
DTSTART;TZID=America/Chicago:20260427T080000
DTEND;TZID=America/Chicago:20260427T170000
DTSTAMP:20260422T053330
CREATED:20260330T202659Z
LAST-MODIFIED:20260330T202659Z
UID:6088-1777276800-1777309200@oskaloosachristian.net
SUMMARY:Mexican Straw Hats\, Corn\, Peaches\, WG Dinner Roll\, Milk
DESCRIPTION:
URL:https://oskaloosachristian.net/event/mexican-straw-hats-corn-peaches-wg-dinner-roll-milk-4/
CATEGORIES:Lunch Calendar
END:VEVENT
BEGIN:VEVENT
DTSTART;TZID=America/Chicago:20260428T080000
DTEND;TZID=America/Chicago:20260428T170000
DTSTAMP:20260422T053330
CREATED:20260330T202800Z
LAST-MODIFIED:20260330T202800Z
UID:6092-1777363200-1777395600@oskaloosachristian.net
SUMMARY:BBQ Pork on WG Bun\, Broccoli w/Cheese\, Applesauce\, Bar\, Milk
DESCRIPTION:
URL:https://oskaloosachristian.net/event/bbq-pork-on-wg-bun-broccoli-w-cheese-applesauce-bar-milk-2/
CATEGORIES:Lunch Calendar
END:VEVENT
BEGIN:VEVENT
DTSTART;TZID=America/Chicago:20260429T080000
DTEND;TZID=America/Chicago:20260429T170000
DTSTAMP:20260422T053330
CREATED:20260330T202525Z
LAST-MODIFIED:20260330T202525Z
UID:6084-1777449600-1777482000@oskaloosachristian.net
SUMMARY:Popcorn Chicken\, Mashed Potatoes\, Mixed Fruit\, WG Dinner Roll\, Milk
DESCRIPTION:
URL:https://oskaloosachristian.net/event/popcorn-chicken-mashed-potatoes-mixed-fruit-wg-dinner-roll-milk-4/
CATEGORIES:Lunch Calendar
END:VEVENT
BEGIN:VEVENT
DTSTART;TZID=America/Chicago:20260430T080000
DTEND;TZID=America/Chicago:20260430T170000
DTSTAMP:20260422T053330
CREATED:20260330T203220Z
LAST-MODIFIED:20260330T203220Z
UID:6107-1777536000-1777568400@oskaloosachristian.net
SUMMARY:Spaghetti w/ Meat Sauce\, Carrots\, Strawberry Cups\, WG French Bread\, Milk
DESCRIPTION:
URL:https://oskaloosachristian.net/event/spaghetti-w-meat-sauce-carrots-strawberry-cups-wg-french-bread-milk-3/
CATEGORIES:Lunch Calendar
END:VEVENT
BEGIN:VEVENT
DTSTART;TZID=America/Chicago:20260501T080000
DTEND;TZID=America/Chicago:20260501T170000
DTSTAMP:20260422T053330
CREATED:20260330T203032Z
LAST-MODIFIED:20260330T203032Z
UID:6100-1777622400-1777654800@oskaloosachristian.net
SUMMARY:Mozzarella Cheese Sticks\, Green Beans\, Pears\, Yogurt\, Milk
DESCRIPTION:
URL:https://oskaloosachristian.net/event/mozzarella-cheese-sticks-green-beans-pears-yogurt-milk-4/
CATEGORIES:Lunch Calendar
END:VEVENT
BEGIN:VEVENT
DTSTART;TZID=America/Chicago:20260504T080000
DTEND;TZID=America/Chicago:20260504T170000
DTSTAMP:20260422T053330
CREATED:20260417T160119Z
LAST-MODIFIED:20260417T160119Z
UID:6154-1777881600-1777914000@oskaloosachristian.net
SUMMARY:Walking Tacos\, Corn\, Peaches\, WG Dinner Roll\, Milk
DESCRIPTION:
URL:https://oskaloosachristian.net/event/walking-tacos-corn-peaches-wg-dinner-roll-milk-4/
CATEGORIES:Lunch Calendar
END:VEVENT
BEGIN:VEVENT
DTSTART;TZID=America/Chicago:20260505T080000
DTEND;TZID=America/Chicago:20260505T170000
DTSTAMP:20260422T053330
CREATED:20260417T160514Z
LAST-MODIFIED:20260417T160514Z
UID:6162-1777968000-1778000400@oskaloosachristian.net
SUMMARY:Sub Sandwich\, Carrots\, Apple Slices\, Sun Chips\, Bar\, Milk
DESCRIPTION:
URL:https://oskaloosachristian.net/event/sub-sandwich-carrots-apple-slices-sun-chips-bar-milk-5/
CATEGORIES:Lunch Calendar
END:VEVENT
BEGIN:VEVENT
DTSTART;TZID=America/Chicago:20260506T080000
DTEND;TZID=America/Chicago:20260506T170000
DTSTAMP:20260422T053330
CREATED:20260420T145856Z
LAST-MODIFIED:20260420T154244Z
UID:6172-1778054400-1778086800@oskaloosachristian.net
SUMMARY:Sloppy Joe on WG Bun\, Mixed Fruit\, Green Beans\, Milk
DESCRIPTION:
URL:https://oskaloosachristian.net/event/spaghetti-w-meat-sauce-mixed-fruit-green-beans-wg-french-bread-milk/
CATEGORIES:Lunch Calendar
END:VEVENT
BEGIN:VEVENT
DTSTART;TZID=America/Chicago:20260507T080000
DTEND;TZID=America/Chicago:20260507T170000
DTSTAMP:20260422T053330
CREATED:20260420T150014Z
LAST-MODIFIED:20260420T150014Z
UID:6176-1778140800-1778173200@oskaloosachristian.net
SUMMARY:Noon Dismissal-NO LUNCH
DESCRIPTION:
URL:https://oskaloosachristian.net/event/noon-dismissal-no-lunch-3/
CATEGORIES:Lunch Calendar
END:VEVENT
BEGIN:VEVENT
DTSTART;TZID=America/Chicago:20260508T080000
DTEND;TZID=America/Chicago:20260508T170000
DTSTAMP:20260422T053330
CREATED:20260420T150040Z
LAST-MODIFIED:20260420T150040Z
UID:6180-1778227200-1778259600@oskaloosachristian.net
SUMMARY:Noon Dismissal-NO LUNCH
DESCRIPTION:
URL:https://oskaloosachristian.net/event/noon-dismissal-no-lunch-4/
CATEGORIES:Lunch Calendar
END:VEVENT
BEGIN:VEVENT
DTSTART;TZID=America/Chicago:20260511T080000
DTEND;TZID=America/Chicago:20260511T170000
DTSTAMP:20260422T053330
CREATED:20260420T155148Z
LAST-MODIFIED:20260421T154939Z
UID:6203-1778486400-1778518800@oskaloosachristian.net
SUMMARY:Corndogs\, Broccoli w/Cheese Sauce\, Peaches\, WG Dinner Roll\, Milk
DESCRIPTION:
URL:https://oskaloosachristian.net/event/corndogs-hashbrowns-french-fries-peaches-wg-dinner-roll-milk/
CATEGORIES:Lunch Calendar
END:VEVENT
BEGIN:VEVENT
DTSTART;TZID=America/Chicago:20260512T080000
DTEND;TZID=America/Chicago:20260512T170000
DTSTAMP:20260422T053330
CREATED:20260421T154647Z
LAST-MODIFIED:20260421T154647Z
UID:6213-1778572800-1778605200@oskaloosachristian.net
SUMMARY:8th Grade Lunch-Mr. Rib on WG Bun\, Curly Fries\, Strawberries\, Strawberry Cake\, Milk-School Lunch-Pork Tenderloin on WG Bun\, French Fries\, Strawberry Cups\, Bar\, Milk
DESCRIPTION:
URL:https://oskaloosachristian.net/event/8th-grade-lunch-mr-rib-on-wg-bun-curly-fries-strawberries-strawberry-cake-milk-school-lunch-pork-tenderloin-on-wg-bun-french-fries-strawberry-cups-bar-milk/
CATEGORIES:Lunch Calendar
END:VEVENT
BEGIN:VEVENT
DTSTART;TZID=America/Chicago:20260518T080000
DTEND;TZID=America/Chicago:20260518T170000
DTSTAMP:20260422T053330
CREATED:20260420T150657Z
LAST-MODIFIED:20260420T150657Z
UID:6197-1779091200-1779123600@oskaloosachristian.net
SUMMARY:Field Day! NO SCHOOL LUNCH-All students must bring home lunch.
DESCRIPTION:
URL:https://oskaloosachristian.net/event/field-day-no-school-lunch-all-students-must-bring-home-lunch-2/
CATEGORIES:Lunch Calendar
END:VEVENT
BEGIN:VEVENT
DTSTART;TZID=America/Chicago:20260519T080000
DTEND;TZID=America/Chicago:20260519T170000
DTSTAMP:20260422T053330
CREATED:20260420T150406Z
LAST-MODIFIED:20260420T150406Z
UID:6189-1779177600-1779210000@oskaloosachristian.net
SUMMARY:Last Day of School! Noon Dismissal-NO LUNCH
DESCRIPTION:
URL:https://oskaloosachristian.net/event/last-day-of-school-noon-dismissal-no-lunch/
CATEGORIES:Lunch Calendar
END:VEVENT
END:VCALENDAR