BEGIN:VCALENDAR
VERSION:2.0
PRODID:-//Oskaloosa Christian School - ECPv6.15.20//NONSGML v1.0//EN
CALSCALE:GREGORIAN
METHOD:PUBLISH
X-WR-CALNAME:Oskaloosa Christian School
X-ORIGINAL-URL:https://oskaloosachristian.net
X-WR-CALDESC:Events for Oskaloosa Christian School
REFRESH-INTERVAL;VALUE=DURATION:PT1H
X-Robots-Tag:noindex
X-PUBLISHED-TTL:PT1H
BEGIN:VTIMEZONE
TZID:America/Chicago
BEGIN:DAYLIGHT
TZOFFSETFROM:-0600
TZOFFSETTO:-0500
TZNAME:CDT
DTSTART:20240310T080000
END:DAYLIGHT
BEGIN:STANDARD
TZOFFSETFROM:-0500
TZOFFSETTO:-0600
TZNAME:CST
DTSTART:20241103T070000
END:STANDARD
BEGIN:DAYLIGHT
TZOFFSETFROM:-0600
TZOFFSETTO:-0500
TZNAME:CDT
DTSTART:20250309T080000
END:DAYLIGHT
BEGIN:STANDARD
TZOFFSETFROM:-0500
TZOFFSETTO:-0600
TZNAME:CST
DTSTART:20251102T070000
END:STANDARD
BEGIN:DAYLIGHT
TZOFFSETFROM:-0600
TZOFFSETTO:-0500
TZNAME:CDT
DTSTART:20260308T080000
END:DAYLIGHT
BEGIN:STANDARD
TZOFFSETFROM:-0500
TZOFFSETTO:-0600
TZNAME:CST
DTSTART:20261101T070000
END:STANDARD
END:VTIMEZONE
BEGIN:VTIMEZONE
TZID:America/Chicago
BEGIN:DAYLIGHT
TZOFFSETFROM:-0600
TZOFFSETTO:-0500
TZNAME:CDT
DTSTART:20240310T080000
END:DAYLIGHT
BEGIN:STANDARD
TZOFFSETFROM:-0500
TZOFFSETTO:-0600
TZNAME:CST
DTSTART:20241103T070000
END:STANDARD
BEGIN:DAYLIGHT
TZOFFSETFROM:-0600
TZOFFSETTO:-0500
TZNAME:CDT
DTSTART:20250309T080000
END:DAYLIGHT
BEGIN:STANDARD
TZOFFSETFROM:-0500
TZOFFSETTO:-0600
TZNAME:CST
DTSTART:20251102T070000
END:STANDARD
BEGIN:DAYLIGHT
TZOFFSETFROM:-0600
TZOFFSETTO:-0500
TZNAME:CDT
DTSTART:20260308T080000
END:DAYLIGHT
BEGIN:STANDARD
TZOFFSETFROM:-0500
TZOFFSETTO:-0600
TZNAME:CST
DTSTART:20261101T070000
END:STANDARD
END:VTIMEZONE
BEGIN:VTIMEZONE
TZID:UTC
BEGIN:STANDARD
TZOFFSETFROM:+0000
TZOFFSETTO:+0000
TZNAME:UTC
DTSTART:20240101T000000
END:STANDARD
END:VTIMEZONE
BEGIN:VEVENT
DTSTART;TZID=America/Chicago:20251117T080000
DTEND;TZID=America/Chicago:20251117T170000
DTSTAMP:20260422T182000
CREATED:20251007T183216Z
LAST-MODIFIED:20251007T183216Z
UID:4622-1763366400-1763398800@oskaloosachristian.net
SUMMARY:Chicken Fajita Quesadilla\, Broccoli w/cheese sauce\, Peaches\, WG Roll
DESCRIPTION:
URL:https://oskaloosachristian.net/event/chicken-fajita-quesadilla-broccoli-w-cheese-sauce-peaches-wg-roll/
CATEGORIES:Lunch Calendar
END:VEVENT
BEGIN:VEVENT
DTSTART;TZID=America/Chicago:20251118T080000
DTEND;TZID=America/Chicago:20251118T170000
DTSTAMP:20260422T182000
CREATED:20251007T183344Z
LAST-MODIFIED:20251007T183344Z
UID:4623-1763452800-1763485200@oskaloosachristian.net
SUMMARY:Hot Dog on WG Bun\, Carrots\, Apples Slices\, Chips\, Bar
DESCRIPTION:
URL:https://oskaloosachristian.net/event/hot-dog-on-wg-bun-carrots-apples-slices-chips-bar/
CATEGORIES:Lunch Calendar
END:VEVENT
BEGIN:VEVENT
DTSTART;TZID=America/Chicago:20251119T080000
DTEND;TZID=America/Chicago:20251119T170000
DTSTAMP:20260422T182000
CREATED:20251007T183636Z
LAST-MODIFIED:20251007T183636Z
UID:4624-1763539200-1763571600@oskaloosachristian.net
SUMMARY:Chicken Nuggets\, French Fries\, Mixed Fruit\, WG Dinner Roll\, Milk
DESCRIPTION:
URL:https://oskaloosachristian.net/event/chicken-nuggets-french-fries-mixed-fruit-wg-dinner-roll-milk/
CATEGORIES:Lunch Calendar
END:VEVENT
BEGIN:VEVENT
DTSTART;TZID=America/Chicago:20251120T080000
DTEND;TZID=America/Chicago:20251120T170000
DTSTAMP:20260422T182000
CREATED:20251007T184449Z
LAST-MODIFIED:20251007T184449Z
UID:4625-1763625600-1763658000@oskaloosachristian.net
SUMMARY:Thanksgiving Dinner-Turkey\, Mashed Potatoes w/gravy\, Stuffing\, Corn\, Fruit Cups\, Finger Jello\, Pumpkin Pie Dessert\, WG Roll\, Milk
DESCRIPTION:
URL:https://oskaloosachristian.net/event/thanksgiving-dinner-turkey-mashed-potatoes-w-gravy-stuffing-corn-fruit-cups-finger-jello-pumpkin-pie-dessert-wg-roll-milk/
CATEGORIES:Lunch Calendar
END:VEVENT
BEGIN:VEVENT
DTSTART;TZID=America/Chicago:20251121T080000
DTEND;TZID=America/Chicago:20251121T170000
DTSTAMP:20260422T182000
CREATED:20251110T210740Z
LAST-MODIFIED:20251110T210740Z
UID:5140-1763712000-1763744400@oskaloosachristian.net
SUMMARY:Mozzarella Cheese Sticks\, Green Beans\, Pears\, Yogurt\, Milk
DESCRIPTION:
URL:https://oskaloosachristian.net/event/mozzarella-cheese-sticks-green-beans-pears-yogurt-milk-3/
CATEGORIES:Lunch Calendar
END:VEVENT
BEGIN:VEVENT
DTSTART;TZID=America/Chicago:20251124T080000
DTEND;TZID=America/Chicago:20251124T170000
DTSTAMP:20260422T182000
CREATED:20251007T184529Z
LAST-MODIFIED:20251007T184529Z
UID:4626-1763971200-1764003600@oskaloosachristian.net
SUMMARY:Chili Soup\, Carrots\, Peaches\, WG Cinnamon Roll\, Milk
DESCRIPTION:
URL:https://oskaloosachristian.net/event/chili-soup-carrots-peaches-wg-cinnamon-roll-milk-3/
CATEGORIES:Lunch Calendar
END:VEVENT
BEGIN:VEVENT
DTSTART;TZID=America/Chicago:20251125T080000
DTEND;TZID=America/Chicago:20251125T170000
DTSTAMP:20260422T182000
CREATED:20251007T184637Z
LAST-MODIFIED:20251007T184637Z
UID:3989-1764057600-1764090000@oskaloosachristian.net
SUMMARY:Hot Chicken on WG Bun\, Green Beans\, Mandarin Oranges\, Bar\, Pudding\, Milk
DESCRIPTION:
URL:https://oskaloosachristian.net/event/hot-chicken-on-wg-bun-green-beans-mandarin-oranges-bar-pudding-milk/
CATEGORIES:Lunch Calendar
END:VEVENT
BEGIN:VEVENT
DTSTART;TZID=America/Chicago:20251126T080000
DTEND;TZID=America/Chicago:20251126T170000
DTSTAMP:20260422T182000
CREATED:20251007T184701Z
LAST-MODIFIED:20251007T184701Z
UID:3990-1764144000-1764176400@oskaloosachristian.net
SUMMARY:No Lunch - Noon Dismissal
DESCRIPTION:
URL:https://oskaloosachristian.net/event/no-lunch-noon-dismissal-2/
CATEGORIES:Lunch Calendar
END:VEVENT
BEGIN:VEVENT
DTSTART;TZID=America/Chicago:20251127T080000
DTEND;TZID=America/Chicago:20251127T170000
DTSTAMP:20260422T182000
CREATED:20251007T184727Z
LAST-MODIFIED:20251007T184727Z
UID:4627-1764230400-1764262800@oskaloosachristian.net
SUMMARY:Thanksgiving Day - No Lunch
DESCRIPTION:
URL:https://oskaloosachristian.net/event/thanksgiving-day-no-lunch/
CATEGORIES:Lunch Calendar
END:VEVENT
BEGIN:VEVENT
DTSTART;TZID=America/Chicago:20251128T080000
DTEND;TZID=America/Chicago:20251128T170000
DTSTAMP:20260422T182000
CREATED:20251007T184810Z
LAST-MODIFIED:20251007T184810Z
UID:4628-1764316800-1764349200@oskaloosachristian.net
SUMMARY:No Lunch - Thanksgiving Break
DESCRIPTION:
URL:https://oskaloosachristian.net/event/no-lunch-thanksgiving-break/
CATEGORIES:Lunch Calendar
END:VEVENT
BEGIN:VEVENT
DTSTART;TZID=America/Chicago:20251201T080000
DTEND;TZID=America/Chicago:20251201T170000
DTSTAMP:20260422T182000
CREATED:20251007T184853Z
LAST-MODIFIED:20251007T184853Z
UID:4629-1764576000-1764608400@oskaloosachristian.net
SUMMARY:No Lunch - Thanksgiving Break
DESCRIPTION:
URL:https://oskaloosachristian.net/event/no-lunch-thanksgiving-break-2/
CATEGORIES:Lunch Calendar
END:VEVENT
BEGIN:VEVENT
DTSTART;TZID=America/Chicago:20251202T080000
DTEND;TZID=America/Chicago:20251202T170000
DTSTAMP:20260422T182000
CREATED:20251007T185057Z
LAST-MODIFIED:20251007T185057Z
UID:4630-1764662400-1764694800@oskaloosachristian.net
SUMMARY:Maidrite on WG Bun\, Broccoli w/cheese sauce\, Applesauce\, Bar\, Milk
DESCRIPTION:
URL:https://oskaloosachristian.net/event/maidrite-on-wg-bun-broccoli-w-cheese-sauce-applesauce-bar-milk-2/
CATEGORIES:Lunch Calendar
END:VEVENT
BEGIN:VEVENT
DTSTART;TZID=America/Chicago:20251203T080000
DTEND;TZID=America/Chicago:20251203T170000
DTSTAMP:20260422T182000
CREATED:20251117T222045Z
LAST-MODIFIED:20251117T222045Z
UID:5229-1764748800-1764781200@oskaloosachristian.net
SUMMARY:Chicken Noodles over Mashed Potatoes\, Mixed Fruit\, WG Roll\, Milk
DESCRIPTION:
URL:https://oskaloosachristian.net/event/chicken-noodles-over-mashed-potatoes-mixed-fruit-wg-roll-milk/
CATEGORIES:Lunch Calendar
END:VEVENT
BEGIN:VEVENT
DTSTART;TZID=America/Chicago:20251204T080000
DTEND;TZID=America/Chicago:20251204T170000
DTSTAMP:20260422T182000
CREATED:20251117T222142Z
LAST-MODIFIED:20251117T222332Z
UID:5233-1764835200-1764867600@oskaloosachristian.net
SUMMARY:Mac-n-Cheese\, Ham\, Corn\, Mandarin Oranges\, Cinnamon Squares\, Milk
DESCRIPTION:
URL:https://oskaloosachristian.net/event/mac-n-cheese-ham-corn-mandarin-oranges-cinnamon-squares-milk/
CATEGORIES:Lunch Calendar
END:VEVENT
BEGIN:VEVENT
DTSTART;TZID=America/Chicago:20251205T080000
DTEND;TZID=America/Chicago:20251205T170000
DTSTAMP:20260422T182000
CREATED:20251117T222547Z
LAST-MODIFIED:20251117T222547Z
UID:5237-1764921600-1764954000@oskaloosachristian.net
SUMMARY:French Bread Pizza\, Green Beans\, Pears\,Yogurt\, Milk
DESCRIPTION:
URL:https://oskaloosachristian.net/event/french-bread-pizza-green-beans-pearsyogurt-milk/
CATEGORIES:Lunch Calendar
END:VEVENT
BEGIN:VEVENT
DTSTART;TZID=America/Chicago:20251208T080000
DTEND;TZID=America/Chicago:20251208T170000
DTSTAMP:20260422T182000
CREATED:20251117T222630Z
LAST-MODIFIED:20251117T222630Z
UID:5241-1765180800-1765213200@oskaloosachristian.net
SUMMARY:Pancakes\, Smokies\, Hashbrowns\, Apple Juice\, Milk
DESCRIPTION:
URL:https://oskaloosachristian.net/event/pancakes-smokies-hashbrowns-apple-juice-milk/
CATEGORIES:Lunch Calendar
END:VEVENT
BEGIN:VEVENT
DTSTART;TZID=America/Chicago:20251209T080000
DTEND;TZID=America/Chicago:20251209T170000
DTSTAMP:20260422T182000
CREATED:20251117T222716Z
LAST-MODIFIED:20251203T202658Z
UID:5245-1765267200-1765299600@oskaloosachristian.net
SUMMARY:Mr. Rib on WG Bun\, Corn\, Mixed Berry Cup\, Bar\, Milk
DESCRIPTION:
URL:https://oskaloosachristian.net/event/mr-rib-on-wg-bun-corn-applesauce-bar-milk/
CATEGORIES:Lunch Calendar
END:VEVENT
BEGIN:VEVENT
DTSTART;TZID=America/Chicago:20251210T080000
DTEND;TZID=America/Chicago:20251210T170000
DTSTAMP:20260422T182000
CREATED:20251203T204559Z
LAST-MODIFIED:20251203T204559Z
UID:5292-1765353600-1765386000@oskaloosachristian.net
SUMMARY:Chicken Nuggets\, Mashed Potatoes\, Mixed Fruit\, WG Dinner Roll\, Milk
DESCRIPTION:
URL:https://oskaloosachristian.net/event/chicken-nuggets-mashed-potatoes-mixed-fruit-wg-dinner-roll-milk-12/
CATEGORIES:Lunch Calendar
END:VEVENT
BEGIN:VEVENT
DTSTART;TZID=America/Chicago:20251211T080000
DTEND;TZID=America/Chicago:20251211T170000
DTSTAMP:20260422T182000
CREATED:20251203T204702Z
LAST-MODIFIED:20251203T210250Z
UID:5296-1765440000-1765472400@oskaloosachristian.net
SUMMARY:Hot dog on WG Bun\, Carrots\, Chips\, Banana\, Ice Cream Bar\, Milk
DESCRIPTION:
URL:https://oskaloosachristian.net/event/hot-dog-on-wg-bun-carrots-chips-apple-slices-ice-cream-bar-milk-2/
CATEGORIES:Lunch Calendar
END:VEVENT
BEGIN:VEVENT
DTSTART;TZID=America/Chicago:20251212T080000
DTEND;TZID=America/Chicago:20251212T170000
DTSTAMP:20260422T182000
CREATED:20251203T204728Z
LAST-MODIFIED:20251203T210354Z
UID:5300-1765526400-1765558800@oskaloosachristian.net
SUMMARY:Christmas Dinner: BBQ Meatballs\, Hashbrown Potatoes\, Green Beans\, Jello Cups\, Golden Roll\, Cake Dessert\, Milk
DESCRIPTION:
URL:https://oskaloosachristian.net/event/chiristmas-dinner/
CATEGORIES:Lunch Calendar
END:VEVENT
BEGIN:VEVENT
DTSTART;TZID=America/Chicago:20251215T080000
DTEND;TZID=America/Chicago:20251215T170000
DTSTAMP:20260422T182000
CREATED:20251203T205047Z
LAST-MODIFIED:20251203T205047Z
UID:5308-1765785600-1765818000@oskaloosachristian.net
SUMMARY:Mexican Straw Hats\, Corn\, Peaches\, WG Dinner Roll\, Milk
DESCRIPTION:
URL:https://oskaloosachristian.net/event/mexican-straw-hats-corn-peaches-wg-dinner-roll-milk/
CATEGORIES:Lunch Calendar
END:VEVENT
BEGIN:VEVENT
DTSTART;TZID=America/Chicago:20251216T080000
DTEND;TZID=America/Chicago:20251216T170000
DTSTAMP:20260422T182000
CREATED:20251203T205249Z
LAST-MODIFIED:20251203T205249Z
UID:5312-1765872000-1765904400@oskaloosachristian.net
SUMMARY:Hamburger/Cheeseburger on a WG Bun\, French Fries\, Strawberry Cups\, Pudding\, Milk
DESCRIPTION:
URL:https://oskaloosachristian.net/event/hamburger-cheeseburger-on-a-wg-bun-french-fries-strawberry-cups-pudding-milk/
CATEGORIES:Lunch Calendar
END:VEVENT
BEGIN:VEVENT
DTSTART;TZID=America/Chicago:20251217T080000
DTEND;TZID=America/Chicago:20251217T170000
DTSTAMP:20260422T182000
CREATED:20251203T205717Z
LAST-MODIFIED:20251203T205717Z
UID:5316-1765958400-1765990800@oskaloosachristian.net
SUMMARY:Country Fried Steak\, Mashed Potatoes\, Mixed Fruit\, WG Dinner Roll\, Milk
DESCRIPTION:
URL:https://oskaloosachristian.net/event/country-fried-steak-mashed-potatoes-mixed-fruit-wg-dinner-roll-milk-8/
CATEGORIES:Lunch Calendar
END:VEVENT
BEGIN:VEVENT
DTSTART;TZID=America/Chicago:20251218T080000
DTEND;TZID=America/Chicago:20251218T170000
DTSTAMP:20260422T182000
CREATED:20251203T205836Z
LAST-MODIFIED:20251203T215331Z
UID:5320-1766044800-1766077200@oskaloosachristian.net
SUMMARY:Tator Tot Casserole\, Carrots\, Mandarin Oranges\, Cinnamon Squares\, Milk
DESCRIPTION:
URL:https://oskaloosachristian.net/event/corn-dog-nachos-w-cheese-peaches-broccoli-wg-dinner-roll-milk/
CATEGORIES:Lunch Calendar
END:VEVENT
BEGIN:VEVENT
DTSTART;TZID=America/Chicago:20251219T080000
DTEND;TZID=America/Chicago:20251219T170000
DTSTAMP:20260422T182000
CREATED:20251203T205915Z
LAST-MODIFIED:20251203T205915Z
UID:5324-1766131200-1766163600@oskaloosachristian.net
SUMMARY:Mozzarella Cheese Sticks w/ marinara Sauce\, Green Beans\, Pears\, Yogurt\, Milk
DESCRIPTION:
URL:https://oskaloosachristian.net/event/mozzarella-cheese-sticks-w-marinara-sauce-green-beans-pears-yogurt-milk-4/
CATEGORIES:Lunch Calendar
END:VEVENT
BEGIN:VEVENT
DTSTART;TZID=America/Chicago:20251222T080000
DTEND;TZID=America/Chicago:20251222T170000
DTSTAMP:20260422T182000
CREATED:20251203T205954Z
LAST-MODIFIED:20251203T205954Z
UID:5328-1766390400-1766422800@oskaloosachristian.net
SUMMARY:Tomato Soup\, Grilled Cheese\, Apple Slices\, Bar\, Milk
DESCRIPTION:
URL:https://oskaloosachristian.net/event/tomato-soup-grilled-cheese-apple-slices-bar-milk-2/
CATEGORIES:Lunch Calendar
END:VEVENT
BEGIN:VEVENT
DTSTART;TZID=America/Chicago:20251223T080000
DTEND;TZID=America/Chicago:20251223T170000
DTSTAMP:20260422T182000
CREATED:20251203T214020Z
LAST-MODIFIED:20251203T214020Z
UID:5335-1766476800-1766509200@oskaloosachristian.net
SUMMARY:No Lunch - Noon Dismissal
DESCRIPTION:
URL:https://oskaloosachristian.net/event/no-lunch-noon-dismissal-3/
CATEGORIES:Lunch Calendar
END:VEVENT
BEGIN:VEVENT
DTSTART;TZID=America/Chicago:20251224T080000
DTEND;TZID=America/Chicago:20251224T170000
DTSTAMP:20260422T182000
CREATED:20251203T215919Z
LAST-MODIFIED:20251203T215919Z
UID:5376-1766563200-1766595600@oskaloosachristian.net
SUMMARY:Christmas Vacation - No Lunch
DESCRIPTION:
URL:https://oskaloosachristian.net/event/christmas-vacation-no-lunch-2/
CATEGORIES:Lunch Calendar
END:VEVENT
BEGIN:VEVENT
DTSTART;VALUE=DATE:20251225
DTEND;VALUE=DATE:20251226
DTSTAMP:20260422T182000
CREATED:20250819T202128Z
LAST-MODIFIED:20251203T215824Z
UID:3787-1766620800-1766707199@oskaloosachristian.net
SUMMARY:Christmas Vacation - No Lunch
DESCRIPTION:
URL:https://oskaloosachristian.net/event/christmas-break/
CATEGORIES:Lunch Calendar
END:VEVENT
BEGIN:VEVENT
DTSTART;TZID=America/Chicago:20251225T080000
DTEND;TZID=America/Chicago:20251225T170000
DTSTAMP:20260422T182000
CREATED:20251203T215529Z
LAST-MODIFIED:20251203T215541Z
UID:5366-1766649600-1766682000@oskaloosachristian.net
SUMMARY:Christmas Vacation-No Lunch
DESCRIPTION:
URL:https://oskaloosachristian.net/event/christmas-vacation-2/
CATEGORIES:Lunch Calendar
END:VEVENT
END:VCALENDAR