BEGIN:VCALENDAR
VERSION:2.0
PRODID:-//Oskaloosa Christian School - ECPv6.15.20//NONSGML v1.0//EN
CALSCALE:GREGORIAN
METHOD:PUBLISH
X-ORIGINAL-URL:https://oskaloosachristian.net
X-WR-CALDESC:Events for Oskaloosa Christian School
REFRESH-INTERVAL;VALUE=DURATION:PT1H
X-Robots-Tag:noindex
X-PUBLISHED-TTL:PT1H
BEGIN:VTIMEZONE
TZID:America/Chicago
BEGIN:DAYLIGHT
TZOFFSETFROM:-0600
TZOFFSETTO:-0500
TZNAME:CDT
DTSTART:20250309T080000
END:DAYLIGHT
BEGIN:STANDARD
TZOFFSETFROM:-0500
TZOFFSETTO:-0600
TZNAME:CST
DTSTART:20251102T070000
END:STANDARD
BEGIN:DAYLIGHT
TZOFFSETFROM:-0600
TZOFFSETTO:-0500
TZNAME:CDT
DTSTART:20260308T080000
END:DAYLIGHT
BEGIN:STANDARD
TZOFFSETFROM:-0500
TZOFFSETTO:-0600
TZNAME:CST
DTSTART:20261101T070000
END:STANDARD
BEGIN:DAYLIGHT
TZOFFSETFROM:-0600
TZOFFSETTO:-0500
TZNAME:CDT
DTSTART:20270314T080000
END:DAYLIGHT
BEGIN:STANDARD
TZOFFSETFROM:-0500
TZOFFSETTO:-0600
TZNAME:CST
DTSTART:20271107T070000
END:STANDARD
END:VTIMEZONE
BEGIN:VEVENT
DTSTART;TZID=America/Chicago:20260302T080000
DTEND;TZID=America/Chicago:20260302T170000
DTSTAMP:20260421T143906
CREATED:20260130T200043Z
LAST-MODIFIED:20260130T200043Z
UID:5716-1772438400-1772470800@oskaloosachristian.net
SUMMARY:Burrito\, Nachos w/Cheese\, Broccoli\, Peach Cups\, WG Dinner Roll\, Milk
DESCRIPTION:
URL:https://oskaloosachristian.net/event/burrito-nachos-w-cheese-broccoli-peach-cups-wg-dinner-roll-milk-2/
CATEGORIES:Lunch Calendar
END:VEVENT
BEGIN:VEVENT
DTSTART;TZID=America/Chicago:20260303T080000
DTEND;TZID=America/Chicago:20260303T170000
DTSTAMP:20260421T143906
CREATED:20260130T200152Z
LAST-MODIFIED:20260130T200152Z
UID:5720-1772524800-1772557200@oskaloosachristian.net
SUMMARY:Hot Dog on WG Bun\, Carrots\, Applesauce\, Chips\, Ice Cream Bar\, Milk
DESCRIPTION:
URL:https://oskaloosachristian.net/event/hot-dog-on-wg-bun-carrots-applesauce-chips-ice-cream-bar-milk-3/
CATEGORIES:Lunch Calendar
END:VEVENT
BEGIN:VEVENT
DTSTART;TZID=America/Chicago:20260304T080000
DTEND;TZID=America/Chicago:20260304T170000
DTSTAMP:20260421T143906
CREATED:20260130T200617Z
LAST-MODIFIED:20260130T200617Z
UID:5736-1772611200-1772643600@oskaloosachristian.net
SUMMARY:Meatloaf\, Mashed Potatoes\, Mixed Fruit\, WG Dinner Roll\, Milk
DESCRIPTION:
URL:https://oskaloosachristian.net/event/meatloaf-mashed-potatoes-mixed-fruit-wg-dinner-roll-milk-7/
CATEGORIES:Lunch Calendar
END:VEVENT
BEGIN:VEVENT
DTSTART;TZID=America/Chicago:20260305T080000
DTEND;TZID=America/Chicago:20260305T170000
DTSTAMP:20260421T143906
CREATED:20260130T200901Z
LAST-MODIFIED:20260227T164555Z
UID:5747-1772697600-1772730000@oskaloosachristian.net
SUMMARY:Mac-N-Cheese\, Ham\, Corn\, Pineapple\, Cinnamon Sticks\, Milk
DESCRIPTION:
URL:https://oskaloosachristian.net/event/mac-n-cheese-ham-corn-mixed-berry-cups-cinnamon-sticks-milk-3/
CATEGORIES:Lunch Calendar
END:VEVENT
BEGIN:VEVENT
DTSTART;TZID=America/Chicago:20260306T080000
DTEND;TZID=America/Chicago:20260306T170000
DTSTAMP:20260421T143906
CREATED:20260130T200504Z
LAST-MODIFIED:20260130T200504Z
UID:5732-1772784000-1772816400@oskaloosachristian.net
SUMMARY:Bosco Sticks\, Green Beans\, Pears\, Yogurt\, Milk
DESCRIPTION:
URL:https://oskaloosachristian.net/event/bosco-sticks-green-beans-pears-yogurt-milk-4/
CATEGORIES:Lunch Calendar
END:VEVENT
BEGIN:VEVENT
DTSTART;TZID=America/Chicago:20260309T080000
DTEND;TZID=America/Chicago:20260309T170000
DTSTAMP:20260421T143906
CREATED:20260130T201213Z
LAST-MODIFIED:20260130T201213Z
UID:5751-1773043200-1773075600@oskaloosachristian.net
SUMMARY:French Toast\, Lil' Smokies\, Hashbrown Potato\, Blueberries\, Milk
DESCRIPTION:
URL:https://oskaloosachristian.net/event/french-toast-lil-smokies-hashbrown-potato-blueberries-milk/
CATEGORIES:Lunch Calendar
END:VEVENT
BEGIN:VEVENT
DTSTART;TZID=America/Chicago:20260310T080000
DTEND;TZID=America/Chicago:20260310T170000
DTSTAMP:20260421T143906
CREATED:20260130T201323Z
LAST-MODIFIED:20260130T201323Z
UID:5755-1773129600-1773162000@oskaloosachristian.net
SUMMARY:Hamburger/Cheeseburger\, French Fries\, Cinnamon Apples\, Pudding\, Milk
DESCRIPTION:
URL:https://oskaloosachristian.net/event/hamburger-cheeseburger-french-fries-cinnamon-apples-pudding-milk-2/
CATEGORIES:Lunch Calendar
END:VEVENT
BEGIN:VEVENT
DTSTART;TZID=America/Chicago:20260311T080000
DTEND;TZID=America/Chicago:20260311T170000
DTSTAMP:20260421T143906
CREATED:20260306T163700Z
LAST-MODIFIED:20260306T163700Z
UID:5920-1773216000-1773248400@oskaloosachristian.net
SUMMARY:Chicken Nuggets\, Mashed Potatoes\, Mixed Fruit\, WG Dinner Roll\, Milk
DESCRIPTION:
URL:https://oskaloosachristian.net/event/chicken-nuggets-mashed-potatoes-mixed-fruit-wg-dinner-roll-milk-22/
CATEGORIES:Lunch Calendar
END:VEVENT
BEGIN:VEVENT
DTSTART;TZID=America/Chicago:20260312T080000
DTEND;TZID=America/Chicago:20260312T170000
DTSTAMP:20260421T143906
CREATED:20260130T201451Z
LAST-MODIFIED:20260130T201451Z
UID:5763-1773302400-1773334800@oskaloosachristian.net
SUMMARY:NOON DISMISSAL-NO LUNCH
DESCRIPTION:
URL:https://oskaloosachristian.net/event/noon-dismissal-no-lunch-2/
CATEGORIES:Lunch Calendar
END:VEVENT
BEGIN:VEVENT
DTSTART;TZID=America/Chicago:20260313T080000
DTEND;TZID=America/Chicago:20260313T170000
DTSTAMP:20260421T143906
CREATED:20260130T201532Z
LAST-MODIFIED:20260130T201532Z
UID:5767-1773388800-1773421200@oskaloosachristian.net
SUMMARY:NO SCHOOL-NO LUNCH
DESCRIPTION:
URL:https://oskaloosachristian.net/event/no-school-no-lunch-6/
CATEGORIES:Lunch Calendar
END:VEVENT
BEGIN:VEVENT
DTSTART;TZID=America/Chicago:20260316T080000
DTEND;TZID=America/Chicago:20260316T170000
DTSTAMP:20260421T143906
CREATED:20260130T201606Z
LAST-MODIFIED:20260130T201606Z
UID:5771-1773648000-1773680400@oskaloosachristian.net
SUMMARY:SPRING BREAK
DESCRIPTION:
URL:https://oskaloosachristian.net/event/spring-break-7/
CATEGORIES:Lunch Calendar
END:VEVENT
BEGIN:VEVENT
DTSTART;TZID=America/Chicago:20260317T080000
DTEND;TZID=America/Chicago:20260317T170000
DTSTAMP:20260421T143906
CREATED:20260130T201631Z
LAST-MODIFIED:20260130T201709Z
UID:5775-1773734400-1773766800@oskaloosachristian.net
SUMMARY:SPRING BREAK
DESCRIPTION:
URL:https://oskaloosachristian.net/event/spring-break-8/
CATEGORIES:Lunch Calendar
END:VEVENT
BEGIN:VEVENT
DTSTART;TZID=America/Chicago:20260318T080000
DTEND;TZID=America/Chicago:20260318T170000
DTSTAMP:20260421T143906
CREATED:20260130T201729Z
LAST-MODIFIED:20260130T201729Z
UID:5779-1773820800-1773853200@oskaloosachristian.net
SUMMARY:SPRING BREAK
DESCRIPTION:
URL:https://oskaloosachristian.net/event/spring-break-9/
CATEGORIES:Lunch Calendar
END:VEVENT
BEGIN:VEVENT
DTSTART;TZID=America/Chicago:20260319T080000
DTEND;TZID=America/Chicago:20260319T170000
DTSTAMP:20260421T143906
CREATED:20260130T201750Z
LAST-MODIFIED:20260130T201750Z
UID:5783-1773907200-1773939600@oskaloosachristian.net
SUMMARY:SPRING BREAK
DESCRIPTION:
URL:https://oskaloosachristian.net/event/spring-break-10/
CATEGORIES:Lunch Calendar
END:VEVENT
BEGIN:VEVENT
DTSTART;TZID=America/Chicago:20260320T080000
DTEND;TZID=America/Chicago:20260320T170000
DTSTAMP:20260421T143906
CREATED:20260130T201814Z
LAST-MODIFIED:20260130T201814Z
UID:5787-1773993600-1774026000@oskaloosachristian.net
SUMMARY:SPRING BREAK
DESCRIPTION:
URL:https://oskaloosachristian.net/event/spring-break-11/
CATEGORIES:Lunch Calendar
END:VEVENT
BEGIN:VEVENT
DTSTART;TZID=America/Chicago:20260323T080000
DTEND;TZID=America/Chicago:20260323T170000
DTSTAMP:20260421T143906
CREATED:20260227T164821Z
LAST-MODIFIED:20260323T145517Z
UID:5852-1774252800-1774285200@oskaloosachristian.net
SUMMARY:Beef and Noodles\, Mashed Potatoes\, Peaches\, WG Dinner Roll\, Milk
DESCRIPTION:
URL:https://oskaloosachristian.net/event/mexican-straw-hats-corn-peaches-wg-dinner-roll-milk-2/
CATEGORIES:Lunch Calendar
END:VEVENT
BEGIN:VEVENT
DTSTART;TZID=America/Chicago:20260324T080000
DTEND;TZID=America/Chicago:20260324T170000
DTSTAMP:20260421T143906
CREATED:20260227T165340Z
LAST-MODIFIED:20260227T170857Z
UID:5864-1774339200-1774371600@oskaloosachristian.net
SUMMARY:BBQ Pork on WG Bun\, Tator Tots\, Applesauce\, Bar\, Milk
DESCRIPTION:
URL:https://oskaloosachristian.net/event/bbq-pork-on-wg-bun-french-fries-applesauce-bar-milk-2/
CATEGORIES:Lunch Calendar
END:VEVENT
BEGIN:VEVENT
DTSTART;TZID=America/Chicago:20260325T080000
DTEND;TZID=America/Chicago:20260325T170000
DTSTAMP:20260421T143906
CREATED:20260227T165422Z
LAST-MODIFIED:20260323T145812Z
UID:5868-1774425600-1774458000@oskaloosachristian.net
SUMMARY:Chicken Patty on WG Bun\, Strawberry Cups\, Corn\, Bar\, Milk
DESCRIPTION:
URL:https://oskaloosachristian.net/event/beef-and-noodles-mashed-potatoes-mixed-fruit-wg-dinner-roll-milk-2/
CATEGORIES:Lunch Calendar
END:VEVENT
BEGIN:VEVENT
DTSTART;TZID=America/Chicago:20260326T080000
DTEND;TZID=America/Chicago:20260326T170000
DTSTAMP:20260421T143906
CREATED:20260227T165730Z
LAST-MODIFIED:20260323T150015Z
UID:5880-1774512000-1774544400@oskaloosachristian.net
SUMMARY:Walking Tacos\, Carrots\, Apple Slices\, Bar\, Milk
DESCRIPTION:
URL:https://oskaloosachristian.net/event/wg-sub-sandwich-sun-chips-broccoli-apple-slices-bar-milk-3/
CATEGORIES:Lunch Calendar
END:VEVENT
BEGIN:VEVENT
DTSTART;TZID=America/Chicago:20260327T080000
DTEND;TZID=America/Chicago:20260327T170000
DTSTAMP:20260421T143906
CREATED:20260227T165614Z
LAST-MODIFIED:20260227T165614Z
UID:5876-1774598400-1774630800@oskaloosachristian.net
SUMMARY:Mozzarella Cheese Sticks w/Marinara\, Green Beans\, Pears\, Yogurt\, Milk
DESCRIPTION:
URL:https://oskaloosachristian.net/event/mozzarella-cheese-sticks-w-marinara-green-beans-pears-yogurt-milk-2/
CATEGORIES:Lunch Calendar
END:VEVENT
BEGIN:VEVENT
DTSTART;TZID=America/Chicago:20260330T080000
DTEND;TZID=America/Chicago:20260330T170000
DTSTAMP:20260421T143906
CREATED:20260227T165835Z
LAST-MODIFIED:20260227T165835Z
UID:5884-1774857600-1774890000@oskaloosachristian.net
SUMMARY:Chicken Soup\, Corn\, Peaches\, WG Cinnamon Roll\, Milk
DESCRIPTION:
URL:https://oskaloosachristian.net/event/chicken-soup-corn-peaches-wg-cinnamon-roll-milk-2/
CATEGORIES:Lunch Calendar
END:VEVENT
BEGIN:VEVENT
DTSTART;TZID=America/Chicago:20260331T080000
DTEND;TZID=America/Chicago:20260331T170000
DTSTAMP:20260421T143906
CREATED:20260227T170128Z
LAST-MODIFIED:20260227T184329Z
UID:5888-1774944000-1774976400@oskaloosachristian.net
SUMMARY:Pork Tenderloin on WG Bun\, French Fries\, Applesauce\, Bar\, Milk
DESCRIPTION:
URL:https://oskaloosachristian.net/event/pork-tenderloin-on-wg-bun-broccoli-applesauce-bar-milk/
CATEGORIES:Lunch Calendar
END:VEVENT
END:VCALENDAR