BEGIN:VCALENDAR
VERSION:2.0
PRODID:-//Oskaloosa Christian School - ECPv6.15.20//NONSGML v1.0//EN
CALSCALE:GREGORIAN
METHOD:PUBLISH
X-WR-CALNAME:Oskaloosa Christian School
X-ORIGINAL-URL:https://oskaloosachristian.net
X-WR-CALDESC:Events for Oskaloosa Christian School
REFRESH-INTERVAL;VALUE=DURATION:PT1H
X-Robots-Tag:noindex
X-PUBLISHED-TTL:PT1H
BEGIN:VTIMEZONE
TZID:UTC
BEGIN:STANDARD
TZOFFSETFROM:+0000
TZOFFSETTO:+0000
TZNAME:UTC
DTSTART:20230101T000000
END:STANDARD
END:VTIMEZONE
BEGIN:VEVENT
DTSTART;TZID=UTC:20241219T080000
DTEND;TZID=UTC:20241219T170000
DTSTAMP:20260419T072830
CREATED:20241121T225932Z
LAST-MODIFIED:20241121T225932Z
UID:2739-1734595200-1734627600@oskaloosachristian.net
SUMMARY:Sub Sandwich\, Sun Chips\, Carrots\, Sliced Apples\, Milk
DESCRIPTION:
URL:https://oskaloosachristian.net/event/sub-sandwich-sun-chips-carrots-sliced-apples-milk/
CATEGORIES:Lunch Calendar
END:VEVENT
END:VCALENDAR