BEGIN:VCALENDAR
VERSION:2.0
PRODID:-//Oskaloosa Christian School - ECPv6.15.20//NONSGML v1.0//EN
CALSCALE:GREGORIAN
METHOD:PUBLISH
X-ORIGINAL-URL:https://oskaloosachristian.net
X-WR-CALDESC:Events for Oskaloosa Christian School
REFRESH-INTERVAL;VALUE=DURATION:PT1H
X-Robots-Tag:noindex
X-PUBLISHED-TTL:PT1H
BEGIN:VTIMEZONE
TZID:UTC
BEGIN:STANDARD
TZOFFSETFROM:+0000
TZOFFSETTO:+0000
TZNAME:UTC
DTSTART:20230101T000000
END:STANDARD
END:VTIMEZONE
BEGIN:VEVENT
DTSTART;VALUE=DATE:20241216
DTEND;VALUE=DATE:20241217
DTSTAMP:20260419T072835
CREATED:20241106T003418Z
LAST-MODIFIED:20241106T003418Z
UID:4416-1734307200-1734393599@oskaloosachristian.net
SUMMARY:Counselor
DESCRIPTION:Mrs. Vander Leest will be teaching in grades K\, 1st\, 3rd\, 4th
URL:https://oskaloosachristian.net/event/counselor-11/
CATEGORIES:School Calendar
END:VEVENT
BEGIN:VEVENT
DTSTART;TZID=UTC:20241216T080000
DTEND;TZID=UTC:20241216T170000
DTSTAMP:20260419T072835
CREATED:20241121T225623Z
LAST-MODIFIED:20241121T225623Z
UID:2732-1734336000-1734368400@oskaloosachristian.net
SUMMARY:Tomato Soup\, Grilled Cheese Sandwich\, Sliced Apples\, Bar\, Milk
DESCRIPTION:
URL:https://oskaloosachristian.net/event/tomato-soup-grilled-cheese-sandwich-sliced-apples-bar-milk/
CATEGORIES:Lunch Calendar
END:VEVENT
END:VCALENDAR