BEGIN:VCALENDAR
VERSION:2.0
PRODID:-//Oskaloosa Christian School - ECPv6.15.20//NONSGML v1.0//EN
CALSCALE:GREGORIAN
METHOD:PUBLISH
X-WR-CALNAME:Oskaloosa Christian School
X-ORIGINAL-URL:https://oskaloosachristian.net
X-WR-CALDESC:Events for Oskaloosa Christian School
REFRESH-INTERVAL;VALUE=DURATION:PT1H
X-Robots-Tag:noindex
X-PUBLISHED-TTL:PT1H
BEGIN:VTIMEZONE
TZID:UTC
BEGIN:STANDARD
TZOFFSETFROM:+0000
TZOFFSETTO:+0000
TZNAME:UTC
DTSTART:20230101T000000
END:STANDARD
END:VTIMEZONE
BEGIN:VEVENT
DTSTART;TZID=UTC:20241213T080000
DTEND;TZID=UTC:20241213T170000
DTSTAMP:20260419T073343
CREATED:20241121T225507Z
LAST-MODIFIED:20241121T225507Z
UID:2730-1734076800-1734109200@oskaloosachristian.net
SUMMARY:Christmas Dinner
DESCRIPTION:
URL:https://oskaloosachristian.net/event/christmas-dinner/
CATEGORIES:Lunch Calendar
END:VEVENT
BEGIN:VEVENT
DTSTART;TZID=UTC:20241213T080000
DTEND;TZID=UTC:20241213T170000
DTSTAMP:20260419T073343
CREATED:20241205T233941Z
LAST-MODIFIED:20241205T233941Z
UID:4461-1734076800-1734109200@oskaloosachristian.net
SUMMARY:Christmas Dinner-Meatballs\, Hashbrown Potatoes\, Green Beans\, Jello Cups\, Dessert\, Golden Roll\, Milk
DESCRIPTION:
URL:https://oskaloosachristian.net/event/christmas-dinner-meatballs-hashbrown-potatoes-green-beans-jello-cups-dessert-golden-roll-milk/
CATEGORIES:Lunch Calendar
END:VEVENT
BEGIN:VEVENT
DTSTART;TZID=UTC:20241213T110000
DTEND;TZID=UTC:20241213T123000
DTSTAMP:20260419T073343
CREATED:20241016T003559Z
LAST-MODIFIED:20241016T003559Z
UID:2409-1734087600-1734093000@oskaloosachristian.net
SUMMARY:Parent Christmas Chapel and Dinner
DESCRIPTION:
URL:https://oskaloosachristian.net/event/parent-christmas-chapel-dinner/
LOCATION:OC Gym
CATEGORIES:School Calendar
END:VEVENT
END:VCALENDAR