BEGIN:VCALENDAR
VERSION:2.0
PRODID:-//Oskaloosa Christian School - ECPv6.15.20//NONSGML v1.0//EN
CALSCALE:GREGORIAN
METHOD:PUBLISH
X-ORIGINAL-URL:https://oskaloosachristian.net
X-WR-CALDESC:Events for Oskaloosa Christian School
REFRESH-INTERVAL;VALUE=DURATION:PT1H
X-Robots-Tag:noindex
X-PUBLISHED-TTL:PT1H
BEGIN:VTIMEZONE
TZID:UTC
BEGIN:STANDARD
TZOFFSETFROM:+0000
TZOFFSETTO:+0000
TZNAME:UTC
DTSTART:20230101T000000
END:STANDARD
END:VTIMEZONE
BEGIN:VEVENT
DTSTART;VALUE=DATE:20241211
DTEND;VALUE=DATE:20241212
DTSTAMP:20260419T072139
CREATED:20241015T210716Z
LAST-MODIFIED:20241015T210716Z
UID:4386-1733875200-1733961599@oskaloosachristian.net
SUMMARY:2:15 Dismissal w/Osky Buses
DESCRIPTION:
URL:https://oskaloosachristian.net/event/215-dismissal-w-osky-buses-5/
CATEGORIES:School Calendar
END:VEVENT
BEGIN:VEVENT
DTSTART;TZID=UTC:20241211T080000
DTEND;TZID=UTC:20241211T170000
DTSTAMP:20260419T072139
CREATED:20241121T225237Z
LAST-MODIFIED:20241121T225237Z
UID:4457-1733904000-1733936400@oskaloosachristian.net
SUMMARY:Meatloaf\, Mashed Potatoes\, Mixed Fruit\, WG Roll\, Milk
DESCRIPTION:
URL:https://oskaloosachristian.net/event/meatloaf-mashed-potatoes-mixed-fruit-wg-roll-milk/
CATEGORIES:Lunch Calendar
END:VEVENT
END:VCALENDAR