BEGIN:VCALENDAR
VERSION:2.0
PRODID:-//Oskaloosa Christian School - ECPv6.15.20//NONSGML v1.0//EN
CALSCALE:GREGORIAN
METHOD:PUBLISH
X-ORIGINAL-URL:https://oskaloosachristian.net
X-WR-CALDESC:Events for Oskaloosa Christian School
REFRESH-INTERVAL;VALUE=DURATION:PT1H
X-Robots-Tag:noindex
X-PUBLISHED-TTL:PT1H
BEGIN:VTIMEZONE
TZID:UTC
BEGIN:STANDARD
TZOFFSETFROM:+0000
TZOFFSETTO:+0000
TZNAME:UTC
DTSTART:20230101T000000
END:STANDARD
END:VTIMEZONE
BEGIN:VEVENT
DTSTART;VALUE=DATE:20241204
DTEND;VALUE=DATE:20241205
DTSTAMP:20260419T072124
CREATED:20241015T210621Z
LAST-MODIFIED:20241015T210621Z
UID:2343-1733270400-1733356799@oskaloosachristian.net
SUMMARY:2:15 Dismissal w/Osky Buses
DESCRIPTION:
URL:https://oskaloosachristian.net/event/215-dismissal-w-osky-buses-4/
CATEGORIES:School Calendar
END:VEVENT
BEGIN:VEVENT
DTSTART;TZID=UTC:20241204T080000
DTEND;TZID=UTC:20241204T170000
DTSTAMP:20260419T072124
CREATED:20241121T223845Z
LAST-MODIFIED:20241121T223845Z
UID:2712-1733299200-1733331600@oskaloosachristian.net
SUMMARY:Chicken-n-Noodles over Mashed Potatoes\, Mixed Fruit\, WG Dinner Roll\, Milk
DESCRIPTION:
URL:https://oskaloosachristian.net/event/chicken-n-noodles-over-mashed-potatoes-mixed-fruit-wg-dinner-roll-milk/
CATEGORIES:Lunch Calendar
END:VEVENT
END:VCALENDAR