BEGIN:VCALENDAR
VERSION:2.0
PRODID:-//Oskaloosa Christian School - ECPv6.15.20//NONSGML v1.0//EN
CALSCALE:GREGORIAN
METHOD:PUBLISH
X-WR-CALNAME:Oskaloosa Christian School
X-ORIGINAL-URL:https://oskaloosachristian.net
X-WR-CALDESC:Events for Oskaloosa Christian School
REFRESH-INTERVAL;VALUE=DURATION:PT1H
X-Robots-Tag:noindex
X-PUBLISHED-TTL:PT1H
BEGIN:VTIMEZONE
TZID:UTC
BEGIN:STANDARD
TZOFFSETFROM:+0000
TZOFFSETTO:+0000
TZNAME:UTC
DTSTART:20230101T000000
END:STANDARD
END:VTIMEZONE
BEGIN:VEVENT
DTSTART;VALUE=DATE:20241024
DTEND;VALUE=DATE:20241025
DTSTAMP:20260419T100612
CREATED:20241008T224236Z
LAST-MODIFIED:20241008T224236Z
UID:2306-1729728000-1729814399@oskaloosachristian.net
SUMMARY:Noon Dismissal No Bus
DESCRIPTION:
URL:https://oskaloosachristian.net/event/noon-dismissal-no-bus/
CATEGORIES:School Calendar
END:VEVENT
BEGIN:VEVENT
DTSTART;VALUE=DATE:20241024
DTEND;VALUE=DATE:20241025
DTSTAMP:20260419T100612
CREATED:20241008T224258Z
LAST-MODIFIED:20241008T224258Z
UID:2307-1729728000-1729814399@oskaloosachristian.net
SUMMARY:P/T Conferences 1-8 PM
DESCRIPTION:
URL:https://oskaloosachristian.net/event/p-t-conferences-1-8-pm/
CATEGORIES:School Calendar
END:VEVENT
BEGIN:VEVENT
DTSTART;TZID=UTC:20241024T080000
DTEND;TZID=UTC:20241024T170000
DTSTAMP:20260419T100612
CREATED:20240926T040422Z
LAST-MODIFIED:20240926T040422Z
UID:2158-1729756800-1729789200@oskaloosachristian.net
SUMMARY:No Lunch - 12:00 noon dismissal
DESCRIPTION:
URL:https://oskaloosachristian.net/event/no-lunch-1200-noon-dismissal/
CATEGORIES:Lunch Calendar
END:VEVENT
END:VCALENDAR