BEGIN:VCALENDAR
VERSION:2.0
PRODID:-//Oskaloosa Christian School - ECPv6.15.20//NONSGML v1.0//EN
CALSCALE:GREGORIAN
METHOD:PUBLISH
X-WR-CALNAME:Oskaloosa Christian School
X-ORIGINAL-URL:https://oskaloosachristian.net
X-WR-CALDESC:Events for Oskaloosa Christian School
REFRESH-INTERVAL;VALUE=DURATION:PT1H
X-Robots-Tag:noindex
X-PUBLISHED-TTL:PT1H
BEGIN:VTIMEZONE
TZID:UTC
BEGIN:STANDARD
TZOFFSETFROM:+0000
TZOFFSETTO:+0000
TZNAME:UTC
DTSTART:20230101T000000
END:STANDARD
END:VTIMEZONE
BEGIN:VEVENT
DTSTART;VALUE=DATE:20241018
DTEND;VALUE=DATE:20241019
DTSTAMP:20260419T100613
CREATED:20241017T230341Z
LAST-MODIFIED:20241017T230341Z
UID:2420-1729209600-1729295999@oskaloosachristian.net
SUMMARY:No Bus All Day
DESCRIPTION:
URL:https://oskaloosachristian.net/event/no-bus-all-day/
CATEGORIES:School Calendar
END:VEVENT
BEGIN:VEVENT
DTSTART;TZID=UTC:20241018T080000
DTEND;TZID=UTC:20241018T170000
DTSTAMP:20260419T100613
CREATED:20240926T035821Z
LAST-MODIFIED:20240926T035821Z
UID:2151-1729238400-1729270800@oskaloosachristian.net
SUMMARY:Bosco Sticks\, Green Beans\, Pear Slices\, Yogurt\, Milk
DESCRIPTION:Bosco
URL:https://oskaloosachristian.net/event/bosco-sticks-green-beans-pear-slices-yogurt-milk/
CATEGORIES:Lunch Calendar
END:VEVENT
END:VCALENDAR