BEGIN:VCALENDAR
VERSION:2.0
PRODID:-//Oskaloosa Christian School - ECPv6.15.20//NONSGML v1.0//EN
CALSCALE:GREGORIAN
METHOD:PUBLISH
X-ORIGINAL-URL:https://oskaloosachristian.net
X-WR-CALDESC:Events for Oskaloosa Christian School
REFRESH-INTERVAL;VALUE=DURATION:PT1H
X-Robots-Tag:noindex
X-PUBLISHED-TTL:PT1H
BEGIN:VTIMEZONE
TZID:UTC
BEGIN:STANDARD
TZOFFSETFROM:+0000
TZOFFSETTO:+0000
TZNAME:UTC
DTSTART:20230101T000000
END:STANDARD
END:VTIMEZONE
BEGIN:VEVENT
DTSTART;VALUE=DATE:20241014
DTEND;VALUE=DATE:20241015
DTSTAMP:20260419T100629
CREATED:20241008T223928Z
LAST-MODIFIED:20241008T223928Z
UID:2302-1728864000-1728950399@oskaloosachristian.net
SUMMARY:Counselor
DESCRIPTION:Our school counselor will be here and teaching in our MS grades.
URL:https://oskaloosachristian.net/event/counselor-3/
CATEGORIES:School Calendar
END:VEVENT
BEGIN:VEVENT
DTSTART;VALUE=DATE:20241014
DTEND;VALUE=DATE:20241015
DTSTAMP:20260419T100629
CREATED:20241008T223949Z
LAST-MODIFIED:20241008T223949Z
UID:2303-1728864000-1728950399@oskaloosachristian.net
SUMMARY:TRIP Orders
DESCRIPTION:
URL:https://oskaloosachristian.net/event/trip-orders/
CATEGORIES:School Calendar
END:VEVENT
BEGIN:VEVENT
DTSTART;TZID=UTC:20241014T080000
DTEND;TZID=UTC:20241014T170000
DTSTAMP:20260419T100629
CREATED:20240926T035458Z
LAST-MODIFIED:20240926T035458Z
UID:2146-1728892800-1728925200@oskaloosachristian.net
SUMMARY:Mexican Straw Hats\, Cheese\, Corn\, Peaches\, WG Roll\, Milk
DESCRIPTION:
URL:https://oskaloosachristian.net/event/mexican-straw-hats-cheese-corn-peaches-wg-roll-milk/
CATEGORIES:Lunch Calendar
END:VEVENT
END:VCALENDAR