BEGIN:VCALENDAR
VERSION:2.0
PRODID:-//Oskaloosa Christian School - ECPv6.15.20//NONSGML v1.0//EN
CALSCALE:GREGORIAN
METHOD:PUBLISH
X-WR-CALNAME:Oskaloosa Christian School
X-ORIGINAL-URL:https://oskaloosachristian.net
X-WR-CALDESC:Events for Oskaloosa Christian School
REFRESH-INTERVAL;VALUE=DURATION:PT1H
X-Robots-Tag:noindex
X-PUBLISHED-TTL:PT1H
BEGIN:VTIMEZONE
TZID:UTC
BEGIN:STANDARD
TZOFFSETFROM:+0000
TZOFFSETTO:+0000
TZNAME:UTC
DTSTART:20230101T000000
END:STANDARD
END:VTIMEZONE
BEGIN:VEVENT
DTSTART;VALUE=DATE:20240916
DTEND;VALUE=DATE:20240918
DTSTAMP:20260419T113153
CREATED:20240906T231912Z
LAST-MODIFIED:20240906T231912Z
UID:1996-1726444800-1726617599@oskaloosachristian.net
SUMMARY:Wear Red Day
DESCRIPTION:
URL:https://oskaloosachristian.net/event/wear-red-day/
CATEGORIES:School Calendar
END:VEVENT
BEGIN:VEVENT
DTSTART;VALUE=DATE:20240916
DTEND;VALUE=DATE:20240921
DTSTAMP:20260419T113153
CREATED:20240906T232511Z
LAST-MODIFIED:20240906T232511Z
UID:2002-1726444800-1726876799@oskaloosachristian.net
SUMMARY:Dibels Testing TK-5
DESCRIPTION:
URL:https://oskaloosachristian.net/event/dibels-testing-tk-5/
CATEGORIES:School Calendar
END:VEVENT
BEGIN:VEVENT
DTSTART;VALUE=DATE:20240917
DTEND;VALUE=DATE:20240918
DTSTAMP:20260419T113153
CREATED:20240910T184633Z
LAST-MODIFIED:20240910T184633Z
UID:2021-1726531200-1726617599@oskaloosachristian.net
SUMMARY:Sloppy Joe WG Bun\, French Fries\, Fruit Cup\, Bar\, Milk
DESCRIPTION:
URL:https://oskaloosachristian.net/event/sloppy-joe-wg-bun-french-fries-fruit-cup-bar-milk/
CATEGORIES:Lunch Calendar
END:VEVENT
END:VCALENDAR