BEGIN:VCALENDAR
VERSION:2.0
PRODID:-//Oskaloosa Christian School - ECPv6.15.20//NONSGML v1.0//EN
CALSCALE:GREGORIAN
METHOD:PUBLISH
X-WR-CALNAME:Oskaloosa Christian School
X-ORIGINAL-URL:https://oskaloosachristian.net
X-WR-CALDESC:Events for Oskaloosa Christian School
REFRESH-INTERVAL;VALUE=DURATION:PT1H
X-Robots-Tag:noindex
X-PUBLISHED-TTL:PT1H
BEGIN:VTIMEZONE
TZID:UTC
BEGIN:STANDARD
TZOFFSETFROM:+0000
TZOFFSETTO:+0000
TZNAME:UTC
DTSTART:20230101T000000
END:STANDARD
END:VTIMEZONE
BEGIN:VEVENT
DTSTART;VALUE=DATE:20240911
DTEND;VALUE=DATE:20240912
DTSTAMP:20260419T113151
CREATED:20240901T010154Z
LAST-MODIFIED:20240901T010154Z
UID:1830-1726012800-1726099199@oskaloosachristian.net
SUMMARY:2:15 Dismissal w/Buses
DESCRIPTION:
URL:https://oskaloosachristian.net/event/215-dismissal-w-buses-2/
CATEGORIES:School Calendar
END:VEVENT
BEGIN:VEVENT
DTSTART;VALUE=DATE:20240911
DTEND;VALUE=DATE:20240912
DTSTAMP:20260419T113151
CREATED:20240901T011646Z
LAST-MODIFIED:20240901T011646Z
UID:1840-1726012800-1726099199@oskaloosachristian.net
SUMMARY:Creamed Turkey over Mashed Potatoes\, Mixed Fruit\, WG Dinner Roll\, Milk
DESCRIPTION:
URL:https://oskaloosachristian.net/event/creamed-turkey-over-mashed-potatoes-mixed-fruit-wg-dinner-roll-milk/
CATEGORIES:Lunch Calendar
END:VEVENT
BEGIN:VEVENT
DTSTART;VALUE=DATE:20240911
DTEND;VALUE=DATE:20240912
DTSTAMP:20260419T113151
CREATED:20240906T231140Z
LAST-MODIFIED:20240906T231140Z
UID:1991-1726012800-1726099199@oskaloosachristian.net
SUMMARY:TK-8th Devotions
DESCRIPTION:
URL:https://oskaloosachristian.net/event/tk-8th-devotions/
CATEGORIES:School Calendar
END:VEVENT
END:VCALENDAR